﻿BEGIN:VCALENDAR
VERSION:2.0
PRODID:-//wp-events-plugin.com//7.2.3.1//EN
TZID:Europe/Amsterdam
X-WR-TIMEZONE:Europe/Amsterdam
BEGIN:VEVENT
UID:1960@bezoekhetnoorden.nl
DTSTART;TZID=Europe/Amsterdam:20191107T200000
DTEND;TZID=Europe/Amsterdam:20191107T213000
DTSTAMP:20191011T160537Z
URL:https://bezoekhetnoorden.nl/evenementen/lezing-wilde-bloemen/
SUMMARY:Lezing wilde bloemen
DESCRIPTION:Wil je meer weten over wilde bloemen voor je tuin?\n\nDe heer J
 . Helmantel van wildeplantenzadenkwekerij de Cruydthoeck neemt je mee in d
 e mogelijkheden en realisatie van uitbundige bloemenweides. Zo draag je bi
 j aan een goede leefomgeving voor allerlei bestuivende insecten en andere 
 dieren. En met wilde bloemen inspireer je volgende generaties om met grote
  zorg om te gaan met onze dierbare planeet. Spelenderwijs komen je kindere
 n of kleinkinderen in aanraking met de natuur en gaan ervan houden.\nDe le
 zing is georganiseerd door Groei & Bloei Afdeling Assen. Voor leden van de
 ze vereniging is de lezing gratis\, niet-leden betalen 5\,-.\n
ATTACH;FMTTYPE=image/jpeg:https://bezoekhetnoorden.nl/new/wp-content/uploa
 ds/2019/10/Wilde-planten.jpg
CATEGORIES:Lezing
LOCATION:\, \, 
X-APPLE-STRUCTURED-LOCATION;VALUE=URI;X-ADDRESS=\, ;X-APPLE-RADIUS=100;X-TI
 TLE=:geo:0,0
END:VEVENT
BEGIN:VTIMEZONE
TZID:Europe/Amsterdam
X-LIC-LOCATION:Europe/Amsterdam
BEGIN:STANDARD
DTSTART:20191027T020000
TZOFFSETFROM:+0200
TZOFFSETTO:+0100
TZNAME:CET
END:STANDARD
END:VTIMEZONE
END:VCALENDAR