﻿BEGIN:VCALENDAR
VERSION:2.0
PRODID:-//wp-events-plugin.com//7.2.3.1//EN
TZID:Europe/Amsterdam
X-WR-TIMEZONE:Europe/Amsterdam
BEGIN:VEVENT
UID:1812@bezoekhetnoorden.nl
DTSTART;TZID=Europe/Amsterdam:20190518T140000
DTEND;TZID=Europe/Amsterdam:20190518T160000
DTSTAMP:20190508T163210Z
URL:https://bezoekhetnoorden.nl/evenementen/lezing-water-en-natuur-in-het-
 reestdal/
SUMMARY:Lezing ‘Water en natuur  in het Reestdal’
DESCRIPTION:Het Drentse Landschap houdt op zaterdagmiddag 18 mei a.s. om 14
 .00 uur een korte lezing en excursie over Water en Natuur in het Reestdal.
  Uko Vegter\, hoofd afdeling Natuur en Landschap van de stichting\, vertel
 t over de nieuwe ontwikkelingen in het prachtige beekdal. Vervolgens neemt
  hij u mee op een korte wandeling om alles met eigen ogen te zien. Aanmeld
 en is niet nodig en deelname is gratis. Een vrijwillige bijdrage wordt op 
 prijs gesteld.  Locatie: infocentrum ’t Ende\, Stapelerweg 20\, De Stape
 l (bij De Wijk).\n\n\nOntwikkelingen Reestdal\nDe lezing (met veel foto’
 s) laat het water- en natuurbeheer in het Reestdal door de jaren heen zien
 . Uko vertelt over onderzoek aan de waterhuishouding en de vegetatie van h
 et Reestdal in de jaren '90. De herstelmaatregelen die vervolgens zijn uit
 gevoerd en de effecten daarvan komen ook aan bod. Niet alleen zeldzame pla
 nten maar ook otters en vlinders\, zoals de zilveren maan profiteren ervan
 .\n\nTentoonstelling ‘De Bij en Wij’?\nOp dit moment is er in het info
 rmatiecentrum ’t Ende ook de tentoonstelling De Bij en Wij te bekijken. 
 De tentoonstelling geeft een inkijkje in het fascinerende leven van (honin
 g)bijen. Daarnaast kan kennis worden opgedaan over hoe u zelf een steentje
  kunt bijdragen aan het behoud van bijen en insecten. Aanleiding zijn de a
 larmerende berichten van de achteruitgang van grote groepen insecten werel
 dwijd. De tentoonstelling is tot 1 november 2019 te bekijken.\n
ATTACH;FMTTYPE=image/jpeg:https://bezoekhetnoorden.nl/new/wp-content/uploa
 ds/2019/05/reestdal-foto-karla-leeftink-3.jpg
CATEGORIES:Lezing
LOCATION:\, \, 
X-APPLE-STRUCTURED-LOCATION;VALUE=URI;X-ADDRESS=\, ;X-APPLE-RADIUS=100;X-TI
 TLE=:geo:0,0
END:VEVENT
BEGIN:VTIMEZONE
TZID:Europe/Amsterdam
X-LIC-LOCATION:Europe/Amsterdam
BEGIN:DAYLIGHT
DTSTART:20190331T030000
TZOFFSETFROM:+0100
TZOFFSETTO:+0200
TZNAME:CEST
END:DAYLIGHT
END:VTIMEZONE
END:VCALENDAR