﻿BEGIN:VCALENDAR
VERSION:2.0
PRODID:-//wp-events-plugin.com//7.2.3.1//EN
TZID:Europe/Amsterdam
X-WR-TIMEZONE:Europe/Amsterdam
BEGIN:VEVENT
UID:2094@bezoekhetnoorden.nl
DTSTART;TZID=Europe/Amsterdam:20230406T193000
DTEND;TZID=Europe/Amsterdam:20230406T213000
DTSTAMP:20230215T141104Z
URL:https://bezoekhetnoorden.nl/evenementen/lezing-nieuw-boek-mijn-1000-so
 orten-tuin/
SUMMARY:lezing nieuw boek ‘mijn 1000 soorten tuin’
DESCRIPTION:In deze boeiende lezing vertelt Luc Hoogenstein over zijn nieuw
 e boek Mijn 1000 soortentuin: een jaar lang zoeken naar alle dieren en pl
 anten in een stadstuintje.\n\nIn tuinen leven veel meer soorten dieren en 
 planten dan je denkt. Luc Hoogenstein ging de uitdaging aan om in één ja
 ar 1000 soorten in zijn tuin in Utrecht waar te nemen. Door de covid-epide
 mie was ook Luc gedwongen om thuis te werken\, wat voor een ecoloog bij Na
 tuurmonumenten niet ideaal is. Om zijn natuurbehoefte toch te vervullen gi
 ng hij in de pauzes van het werk maar op zoek naar beestjes in zijn eigen 
 habitat. Deze zoektocht liep volledig uit de hand en overtrof zijn stoutst
 e verwachting\, zowel qua aantal soorten als qua bijzondere waarnemingen\,
  met zelfs een nieuwe soort voor Nederland!\n\nLuc Hoogenstein is bioloog\
 , natuurfotograaf en schrijver van het boek “Mijn 1000 Soortentuin”. H
 ij heeft gewerkt bij o.a. Vogelbescherming en Natuurmonumenten en is momen
 teel werkzaam in de duurzame energiesector. Luc vertelt op innemende wijze
  over de soorten in zijn tuin.\n\nDe lezing is een aanrader voor elke leek
  én deskundige die meer wil weten over het leven in je eigen (stads)tuin.
  Laat je verwonderen en ga mee op avontuur in je eigen omgeving.\nHet boek
  is deze avond te koop bij de ingang van de filmzaal.\n\nKosten lezing: 
 € 5\,- p.p. (op vertoon van je museumjaarkaart gratis). Ben je vriend va
 n het Hunebedcentrum of vrijwilliger bij het Hunebedcentrum\, Het Drentse 
 Landschap óf Geopark De Hondsrug dan is deelname ook gratis. Geef dit aan
  bij je aanmelding.\n\nAanmelden is noodzakelijk
ATTACH;FMTTYPE=image/jpeg:https://bezoekhetnoorden.nl/new/wp-content/uploa
 ds/2023/02/lezing-Luc-Hoogenstein.jpg
CATEGORIES:Lezing
LOCATION:\, \, 
X-APPLE-STRUCTURED-LOCATION;VALUE=URI;X-ADDRESS=\, ;X-APPLE-RADIUS=100;X-TI
 TLE=:geo:0,0
END:VEVENT
BEGIN:VTIMEZONE
TZID:Europe/Amsterdam
X-LIC-LOCATION:Europe/Amsterdam
BEGIN:DAYLIGHT
DTSTART:20230326T030000
TZOFFSETFROM:+0100
TZOFFSETTO:+0200
TZNAME:CEST
END:DAYLIGHT
END:VTIMEZONE
END:VCALENDAR