﻿BEGIN:VCALENDAR
VERSION:2.0
PRODID:-//wp-events-plugin.com//7.2.3.1//EN
TZID:Europe/Amsterdam
X-WR-TIMEZONE:Europe/Amsterdam
BEGIN:VEVENT
UID:1590@bezoekhetnoorden.nl
DTSTART;TZID=Europe/Amsterdam:20190414T133000
DTEND;TZID=Europe/Amsterdam:20190414T153000
DTSTAMP:20190223T221952Z
URL:https://bezoekhetnoorden.nl/evenementen/lentewandeling-door-het-drents
 -friese-wold-2/
SUMMARY:Lentewandeling door het Drents-Friese Wold
DESCRIPTION:Het is weer lente!\, tijd voor een lentewandeling Maar waar zie
  je dat nu precies aan en wat gebeurt er eigenlijk met de natuur als het l
 ente is? \n\nTijdens deze wandeling door het Drents-Friese Wold ga je met 
 de gids van Staatsbosbeheer op zoek naar de eerste tekenen van de lente\; 
 zwellende knoppen\, zingende vogels en de eerste vlinders die zich laten z
 ien. \nWandel mee en zie\, hoor en ruik de lente.  \n\nAanmelden noodzakel
 ijk\nNiet geschikt voor mindervaliden vanwege onverharde paden\nHonden zij
 n niet toegestaan
ATTACH;FMTTYPE=image/jpeg:https://bezoekhetnoorden.nl/new/wp-content/uploa
 ds/2019/02/Lentewandeling-door-het-Drents-Friese-Wold.jpg
CATEGORIES:Lente evenement
LOCATION:\, \, 
X-APPLE-STRUCTURED-LOCATION;VALUE=URI;X-ADDRESS=\, ;X-APPLE-RADIUS=100;X-TI
 TLE=:geo:0,0
END:VEVENT
BEGIN:VTIMEZONE
TZID:Europe/Amsterdam
X-LIC-LOCATION:Europe/Amsterdam
BEGIN:DAYLIGHT
DTSTART:20190331T030000
TZOFFSETFROM:+0100
TZOFFSETTO:+0200
TZNAME:CEST
END:DAYLIGHT
END:VTIMEZONE
END:VCALENDAR