﻿BEGIN:VCALENDAR
VERSION:2.0
PRODID:-//wp-events-plugin.com//7.2.3.1//EN
TZID:Europe/Amsterdam
X-WR-TIMEZONE:Europe/Amsterdam
BEGIN:VEVENT
UID:386@bezoekhetnoorden.nl
DTSTART;TZID=Europe/Amsterdam:20190518T080000
DTEND;TZID=Europe/Amsterdam:20190518T170000
DTSTAMP:20190220T220451Z
URL:https://bezoekhetnoorden.nl/evenementen/leekstermeer-wandeltocht/
SUMMARY:Leekstermeer Wandeltocht
DESCRIPTION:Op zaterdag 18 mei 2019 organiseert de Rotaryclub Groningen-Wes
 t voor de 13e keer een wandeltocht door het Gronings- en Drents landschap.
  Het gebied nabij het Leekstermeer\, met zijn fraaie coulisselandschap en 
 prachtige natuurgebied De Onlanden\, leent zich uitstekend voor deze wande
 ltocht.\n\nEr zijn 4 fraaie wandelroutes uitgezet van 10\, 17½\, 25 en 40
  kilometer.\n\nDe twee lange routes liggen ten noorden van de A7\, waar ge
 noten kan worden van het Groninger landschap\, gekenmerkt door veel weilan
 den met sloten als perceelsranden. Dit gebied was voorheen hoogveengebied 
 en is ontgonnen vanaf 1600. De toen bestaande waterafvoer bestaat nog stee
 ds: de route loopt langs Het Oude Diep\, dat ooit een open verbinding had 
 met de Lauwerszee. Het Lettelberterdiep heeft deze functie ook gehad en vo
 rmt nu een prachtig wandelgebied. Via het Leekstermeer aan de noordzijde b
 ij paviljoen Pool kan met een fraai uitzicht over het Leekstermeer van een
  consumptie genoten worden om vervolgens via Lettelbert naar Leek terug te
  keren.\n\nDe twee korte routes lopen nabij het Leekstermeer in het pracht
 ige waterrijke natuurgebied de Onlanden. Dit gebied is volop in ontwikkeli
 ng met ruige hooilanden\, moerasbos en fungeert als boezem voor het eventu
 ele overtollige water uit noord Drente.\n\nOp alle routes zijn (hopelijk z
 onnige) terrassen van diverse cafe’s\, waar een ieder zijn of haar rustp
 unt kan vinden. Bij start en finish en langs de routes zult u met versnape
 ringen en muziek worden onthaald. Alle routes zijn duidelijk bepijld.
ATTACH;FMTTYPE=image/jpeg:https://bezoekhetnoorden.nl/new/wp-content/uploa
 ds/2017/03/leekstermeer-wandeling.jpg
CATEGORIES:Wandelen
LOCATION:\, \, 
X-APPLE-STRUCTURED-LOCATION;VALUE=URI;X-ADDRESS=\, ;X-APPLE-RADIUS=100;X-TI
 TLE=:geo:0,0
END:VEVENT
BEGIN:VTIMEZONE
TZID:Europe/Amsterdam
X-LIC-LOCATION:Europe/Amsterdam
BEGIN:DAYLIGHT
DTSTART:20190331T030000
TZOFFSETFROM:+0100
TZOFFSETTO:+0200
TZNAME:CEST
END:DAYLIGHT
END:VTIMEZONE
END:VCALENDAR