﻿BEGIN:VCALENDAR
VERSION:2.0
PRODID:-//wp-events-plugin.com//7.2.3.1//EN
TZID:Europe/Amsterdam
X-WR-TIMEZONE:Europe/Amsterdam
BEGIN:VEVENT
UID:1856@bezoekhetnoorden.nl
DTSTART;TZID=Europe/Amsterdam:20230305T100000
DTEND;TZID=Europe/Amsterdam:20230305T150000
DTSTAMP:20230215T132718Z
URL:https://bezoekhetnoorden.nl/evenementen/lange-wandeling-zweeloo/
SUMMARY:Lange wandeling: Zweeloo
DESCRIPTION:Een afwisselende gemoedelijke wandeling met een aantal mooie ke
 nmerken van de Drentse natuur en cultuur\, zoals de Stroeten\, de Palms me
 t jeneverbesstruiken\, de Industriële Revolutie\, de Drentse dorpen en he
 t bezichtigen van het dorpje oud-Aalden.\n\nDe lengte van deze wandeling i
 s ca 15 km. De route gaat voor 80% over onverharde paden. Goed schoeisel w
 ordt aangeraden.\nNeem zelf voldoende eten en drinken mee\, wij zorgen voo
 r een mooie plek om dit op te kunnen eten.\n\nHoreca is er relatief laat t
 ijdens de wandeling in Oud Aalden (optioneel) En eveneens na het einde in 
 het dorp Zweeloo. (optioneel)\n\n&nbsp\;\n\nDeelname is gratis maar aanmel
 den noodzakelijk.
ATTACH;FMTTYPE=image/jpeg:https://bezoekhetnoorden.nl/new/wp-content/uploa
 ds/2019/07/kerkje-zweeloo.jpg
CATEGORIES:Wandelen
LOCATION:\, \, 
X-APPLE-STRUCTURED-LOCATION;VALUE=URI;X-ADDRESS=\, ;X-APPLE-RADIUS=100;X-TI
 TLE=:geo:0,0
END:VEVENT
BEGIN:VTIMEZONE
TZID:Europe/Amsterdam
X-LIC-LOCATION:Europe/Amsterdam
BEGIN:STANDARD
DTSTART:20221030T020000
TZOFFSETFROM:+0200
TZOFFSETTO:+0100
TZNAME:CET
END:STANDARD
END:VTIMEZONE
END:VCALENDAR