﻿BEGIN:VCALENDAR
VERSION:2.0
PRODID:-//wp-events-plugin.com//7.2.3.1//EN
TZID:Europe/Amsterdam
X-WR-TIMEZONE:Europe/Amsterdam
BEGIN:VEVENT
UID:1149@bezoekhetnoorden.nl
DTSTART;TZID=Europe/Amsterdam:20181102T133000
DTEND;TZID=Europe/Amsterdam:20181102T223000
DTSTAMP:20180510T125500Z
URL:https://bezoekhetnoorden.nl/evenementen/ladies-day-night-emmen/
SUMMARY:Ladies Day & Night Emmen
DESCRIPTION:Bezoek op vrijdag 2 november 2018 in Emmen “De Grote Ladies D
 ay & Night” Op deze dag zullen tal van topzaken die op de VROUW gericht 
 zijn zich presenteren.  \n\n“De Grote Ladies Day & Night” wordt georga
 niseerd door het weekblad Week in Week uit en het maandblad RegioMagazine.
  Gedurende deze dag kunt u genieten op de Grote Ladies Day & Night. Er zij
 n natuurlijk diverse beursaanbiedingen.\n
ATTACH;FMTTYPE=image/jpeg:https://bezoekhetnoorden.nl/new/wp-content/uploa
 ds/2017/01/ladies-day.jpg
CATEGORIES:Beurs / Congres / Lezing
LOCATION:\, \, 
X-APPLE-STRUCTURED-LOCATION;VALUE=URI;X-ADDRESS=\, ;X-APPLE-RADIUS=100;X-TI
 TLE=:geo:0,0
END:VEVENT
BEGIN:VTIMEZONE
TZID:Europe/Amsterdam
X-LIC-LOCATION:Europe/Amsterdam
BEGIN:STANDARD
DTSTART:20181028T020000
TZOFFSETFROM:+0200
TZOFFSETTO:+0100
TZNAME:CET
END:STANDARD
END:VTIMEZONE
END:VCALENDAR