﻿BEGIN:VCALENDAR
VERSION:2.0
PRODID:-//wp-events-plugin.com//7.2.3.1//EN
TZID:Europe/Amsterdam
X-WR-TIMEZONE:Europe/Amsterdam
BEGIN:VEVENT
UID:1369@bezoekhetnoorden.nl
DTSTART;TZID=Europe/Amsterdam:20181227T110000
DTEND;TZID=Europe/Amsterdam:20181227T130000
DTSTAMP:20181010T152912Z
URL:https://bezoekhetnoorden.nl/evenementen/kuiern-en-slikkn/
SUMMARY:Kuiern en slikk'n
DESCRIPTION:Wandeling bewegwijzerd door dorp Orvelte ongeveer 4 km.\n\nKuie
 rn is lekker langzaam wandelen en slikk’n is ergens aan likken of van sn
 oepen. Start bij Tourist Info punt aan de Dorpstraat 1a.\n\nHaal daar uw k
 aart als bewijs van deelname en de informatie van de deelnemende bedrijven
 . Wandelen en onderweg genieten van kleine lekkernijen. U mag zelf bepalen
  wat u neemt onderweg.\n\nBij enkele ondernemers in het dorp Orvelte tegen
  een kleine vergoeding genieten van een versnapering. Ontdek Orvelte op ee
 n andere manier door heerlijk te wandelen\, met het hele gezin\, familie o
 f met vrienden. De route is voor iedereen te doen.\n\nParkeren op de parke
 erplaatsen buiten het dorp. \n€ 3\,00 per auto. \nOrvelte is geheel voet
 gangersgebied. \nDeelname is op eigen risico.\n
ATTACH;FMTTYPE=image/jpeg:https://bezoekhetnoorden.nl/new/wp-content/uploa
 ds/2018/10/101_5171-kl.jpg
CATEGORIES:Ontdekkingstocht
LOCATION:\, \, 
X-APPLE-STRUCTURED-LOCATION;VALUE=URI;X-ADDRESS=\, ;X-APPLE-RADIUS=100;X-TI
 TLE=:geo:0,0
END:VEVENT
BEGIN:VTIMEZONE
TZID:Europe/Amsterdam
X-LIC-LOCATION:Europe/Amsterdam
BEGIN:STANDARD
DTSTART:20181028T020000
TZOFFSETFROM:+0200
TZOFFSETTO:+0100
TZNAME:CET
END:STANDARD
END:VTIMEZONE
END:VCALENDAR