﻿BEGIN:VCALENDAR
VERSION:2.0
PRODID:-//wp-events-plugin.com//7.2.3.1//EN
TZID:Europe/Amsterdam
X-WR-TIMEZONE:Europe/Amsterdam
BEGIN:VEVENT
UID:1401@bezoekhetnoorden.nl
DTSTART;TZID=Europe/Amsterdam:20190310T133000
DTEND;TZID=Europe/Amsterdam:20190310T170000
DTSTAMP:20181226T112059Z
URL:https://bezoekhetnoorden.nl/evenementen/koopzondag-westen-mode-3/
SUMMARY:Koopzondag Westen mode
DESCRIPTION:Winkelen bij Westen Mode is niet zomaar even kleding shoppen.\n
 \nBij Westen Mode vind je ruim 150 toonaangevende merken onder één dak. 
 Je hoeft niet meer winkel in en winkel uit om een perfecte outfit te score
 n. \nDe collectie is zeer gevarieerd in alle opzichten. Met zoveel merken\
 , 2000 vierkante meter winkelplezier\, een Westen Café\, een eigen atelie
 r\, \neen speelhoek voor de kinderen\, Personal Shopper service en gratis 
 parkeren voor de deur noemen we onszelf een full service Fashion Mall. \nW
 esten Mode is één en al fashion\, voor jong en oud.\n\nWesten Mode besch
 ikt over een ruim parkeerterrein. Zo ben je altijd verzekerd van een grati
 s parkeerplaats 'voor de deur.'
ATTACH;FMTTYPE=image/jpeg:https://bezoekhetnoorden.nl/new/wp-content/uploa
 ds/2018/10/westen-mode.jpg
CATEGORIES:Koopzondag
LOCATION:\, \, 
X-APPLE-STRUCTURED-LOCATION;VALUE=URI;X-ADDRESS=\, ;X-APPLE-RADIUS=100;X-TI
 TLE=:geo:0,0
END:VEVENT
BEGIN:VTIMEZONE
TZID:Europe/Amsterdam
X-LIC-LOCATION:Europe/Amsterdam
BEGIN:STANDARD
DTSTART:20181028T020000
TZOFFSETFROM:+0200
TZOFFSETTO:+0100
TZNAME:CET
END:STANDARD
END:VTIMEZONE
END:VCALENDAR