﻿BEGIN:VCALENDAR
VERSION:2.0
PRODID:-//wp-events-plugin.com//7.2.3.1//EN
TZID:Europe/Amsterdam
X-WR-TIMEZONE:Europe/Amsterdam
BEGIN:VEVENT
UID:1841@bezoekhetnoorden.nl
DTSTART;TZID=Europe/Amsterdam:20190707T110000
DTEND;TZID=Europe/Amsterdam:20190707T160000
DTSTAMP:20190701T145603Z
URL:https://bezoekhetnoorden.nl/evenementen/kom-naar-de-landelijke-zonneki
 jkdag/
SUMMARY:Kom naar de landelijke Zonnekijkdag
DESCRIPTION:Dit jaar organiseert de Koninklijke Nederlandse Vereniging voor
  Weer- en Sterrenkunde voor het eerst de landelijke Zonnekijkdag op zondag
  7 juli. Eén van de locaties waar dit kan is het Duurzaamheidscentrum\, B
 osrand 2\, 9401 SL in Assen. Bezoekers zijn van 11.00 – 16.00 uur welkom
  voor deze gratis activiteit.\n\nSpeciale telescopen\nExperts van de regio
 nale sterrenkundevereniging\, de VWS Noord Drenthe staan met speciale tele
 scopen voor bezoekers klaar. De telescopen zijn voorzien van een zonnefilt
 er zodat men ongehinderd en veilig naar de zon kan kijken.  \n\nFascineren
 de ster\nDe zon is de dichtstbijzijnde ster vanaf de aarde en is fascinere
 nd om te bekijken. Wellicht zijn er zonnevlammen te zien. Een zonnevlam is
  een explosie op het oppervlak van de zon\, die ontstaat door het plotseli
 ng vrijkomen van de energie die wordt vastgehouden in de magnetische velde
 n. Ook is het mogelijk om zonnevlekken te zien. Wil je weten wat dat is? K
 om dan langs op 7 juli!\n\nWeersomstandigheden afhankelijk!\nDeze activite
 it gaat alleen door bij zonnig weer. Kijk van tevoren op de website van VW
 S Noord Drenthe www.vwsnoorddrenthe of het ook echt door gaat.\n\nBeleef d
 e Zomer\nKun je niet op zondag 7 juli\, dan heb je op zondag 14 juli nog e
 en kans. Tijdens het festival ‘Beleef de zomer’ bij het Duurzaamheidsc
 entrum Assen zijn de experts van de VWS Noord Drenth eveneens van 11.00 
 – 16.00 uur aanwezig met speciale telescopen. \n
ATTACH;FMTTYPE=image/jpeg:https://bezoekhetnoorden.nl/new/wp-content/uploa
 ds/2019/07/De-Zon-Foto-Emiel-Velthuis.jpg
CATEGORIES:Excursie
LOCATION:\, \, 
X-APPLE-STRUCTURED-LOCATION;VALUE=URI;X-ADDRESS=\, ;X-APPLE-RADIUS=100;X-TI
 TLE=:geo:0,0
END:VEVENT
BEGIN:VTIMEZONE
TZID:Europe/Amsterdam
X-LIC-LOCATION:Europe/Amsterdam
BEGIN:DAYLIGHT
DTSTART:20190331T030000
TZOFFSETFROM:+0100
TZOFFSETTO:+0200
TZNAME:CEST
END:DAYLIGHT
END:VTIMEZONE
END:VCALENDAR