﻿BEGIN:VCALENDAR
VERSION:2.0
PRODID:-//wp-events-plugin.com//7.2.3.1//EN
TZID:Europe/Amsterdam
X-WR-TIMEZONE:Europe/Amsterdam
BEGIN:VEVENT
UID:2167@bezoekhetnoorden.nl
DTSTART;TZID=Europe/Amsterdam:20240831T070000
DTEND;TZID=Europe/Amsterdam:20240831T140000
DTSTAMP:20240227T181354Z
URL:https://bezoekhetnoorden.nl/evenementen/kofferbakmarkt-roden-3/
SUMMARY:Kofferbakmarkt Roden
DESCRIPTION:Op het jaarbeursterrein aan de Norgerweg in Roden organiseert H
 uurkraam.nl een braderie met vlomarkt. Aan de overzijde van de straat ligt
  een groot parkeerterrein waar bezoekers van de markt gratis kunnen parker
 en. Ook de toegang tot de markt is gratis. Kom gezellig langs\, er is vast
  iets van uw gading te vinden bij de stands met nieuwe en gebruikte goeder
 en. Meer informatie vindt u op huurkraam.nl
ATTACH;FMTTYPE=image/jpeg:https://bezoekhetnoorden.nl/new/wp-content/uploa
 ds/2020/02/braderie-roden.jpg
CATEGORIES:Markt / Braderie
LOCATION:Jaarbeursterrein\, Norgerweg 2b\, Roden\, Drenthe\, 9301 JM\, Nede
 rland
X-APPLE-STRUCTURED-LOCATION;VALUE=URI;X-ADDRESS=Norgerweg 2b\, Roden\, Dren
 the\, 9301 JM\, Nederland;X-APPLE-RADIUS=100;X-TITLE=Jaarbeursterrein:geo:
 0,0
END:VEVENT
BEGIN:VTIMEZONE
TZID:Europe/Amsterdam
X-LIC-LOCATION:Europe/Amsterdam
BEGIN:DAYLIGHT
DTSTART:20240331T030000
TZOFFSETFROM:+0100
TZOFFSETTO:+0200
TZNAME:CEST
END:DAYLIGHT
END:VTIMEZONE
END:VCALENDAR