﻿BEGIN:VCALENDAR
VERSION:2.0
PRODID:-//wp-events-plugin.com//7.2.3.1//EN
TZID:Europe/Amsterdam
X-WR-TIMEZONE:Europe/Amsterdam
BEGIN:VEVENT
UID:1883@bezoekhetnoorden.nl
DTSTART;TZID=Europe/Amsterdam:20190807T130000
DTEND;TZID=Europe/Amsterdam:20190807T160000
DTSTAMP:20190719T165134Z
URL:https://bezoekhetnoorden.nl/evenementen/kleuter-doelab-2/
SUMMARY:Kleuter-doelab
DESCRIPTION:Vanmiddag staat in het teken van doen\, leren en beleven.\nEr z
 ijn leuke activiteiten die aansluiten bij de belevingswereld van de kleute
 r. \n\nDoor te spelen en onderzoeken doen kinderen leuke ontdekkingen. \n\
 nNatuurlijk is het ook voor kinderen die geen kleuter zijn leuk om mee te 
 doen.\nActiviteit onder begeleiding van een volwassene\n\n
ATTACH;FMTTYPE=image/jpeg:https://bezoekhetnoorden.nl/new/wp-content/uploa
 ds/2018/09/Het-nieuwe-duurzaamheidscentrum-in-het-Asserbos.jpg
CATEGORIES:Kinderactiviteit
LOCATION:\, \, 
X-APPLE-STRUCTURED-LOCATION;VALUE=URI;X-ADDRESS=\, ;X-APPLE-RADIUS=100;X-TI
 TLE=:geo:0,0
END:VEVENT
BEGIN:VTIMEZONE
TZID:Europe/Amsterdam
X-LIC-LOCATION:Europe/Amsterdam
BEGIN:DAYLIGHT
DTSTART:20190331T030000
TZOFFSETFROM:+0100
TZOFFSETTO:+0200
TZNAME:CEST
END:DAYLIGHT
END:VTIMEZONE
END:VCALENDAR