﻿BEGIN:VCALENDAR
VERSION:2.0
PRODID:-//wp-events-plugin.com//7.2.3.1//EN
TZID:Europe/Amsterdam
X-WR-TIMEZONE:Europe/Amsterdam
BEGIN:VEVENT
UID:1505@bezoekhetnoorden.nl
DTSTART;TZID=Europe/Amsterdam:20190330T090000
DTEND;TZID=Europe/Amsterdam:20190330T150000
DTSTAMP:20190211T173637Z
URL:https://bezoekhetnoorden.nl/evenementen/kleintje-klimmen-tegen-ms/
SUMMARY:Kleintje Klimmen tegen MS
DESCRIPTION:Wandelaars\, hardlopers\, fietsers en handbikers kunnen kennis 
 maken met het fenomeen Klimmen tegen MS.\n\nBen jij nieuwsgierig of jij he
 t in hebt\, bedwing jij de Col de VAM in de strijd tegen MS?\nDoe dan mee 
 met Kleintje Klimmen tegen MS op de VAM-Berg op 30 maart.\n\nTijdens dit e
 venement kan de Col du VAM\,  1 of meerdere keren worden beklommen.\n
ATTACH;FMTTYPE=image/jpeg:https://bezoekhetnoorden.nl/new/wp-content/uploa
 ds/2019/02/Kleintje-Klimmen-tegen-MS.jpg
CATEGORIES:Lente evenement
LOCATION:\, \, 
X-APPLE-STRUCTURED-LOCATION;VALUE=URI;X-ADDRESS=\, ;X-APPLE-RADIUS=100;X-TI
 TLE=:geo:0,0
END:VEVENT
BEGIN:VTIMEZONE
TZID:Europe/Amsterdam
X-LIC-LOCATION:Europe/Amsterdam
BEGIN:STANDARD
DTSTART:20181028T020000
TZOFFSETFROM:+0200
TZOFFSETTO:+0100
TZNAME:CET
END:STANDARD
END:VTIMEZONE
END:VCALENDAR