﻿BEGIN:VCALENDAR
VERSION:2.0
PRODID:-//wp-events-plugin.com//7.2.3.1//EN
TZID:Europe/Amsterdam
X-WR-TIMEZONE:Europe/Amsterdam
BEGIN:VEVENT
UID:1442@bezoekhetnoorden.nl
DTSTART;TZID=Europe/Amsterdam:20190405T000000
DTEND;TZID=Europe/Amsterdam:20190407T000000
DTSTAMP:20181230T163429Z
URL:https://bezoekhetnoorden.nl/evenementen/klassiekerweekend-ameland/
SUMMARY:Klassiekerweekend Ameland
DESCRIPTION:Van 5 t/m 7 april 2019 wordt op Ameland het Klassiekerweekend g
 eorganiseerd. Tijdens dit weekend verwelkomt Ameland 100 klassieke auto's\
 , gebouwd tussen 1940 en 1978.\n\nVoor de deelnemers vindt op de vrijdagav
 ond de ontvangst plaats en op zaterdag wordt de oriëntatierit over het ei
 land gemaakt\, waarbij wordt deelgenomen aan een spel. Dit gebeurt in een 
 klassiek tempo\, zodat er ook veel tijd en aandacht aan de prachtige omgev
 ing kan worden geschonken. Natuurlijk is er ook tijd voor koffie en een he
 erlijke lunch. Na de oriëntatierit op deze zaterdagmiddag vindt er een mu
 zikaal onthaal plaats in het centrum van Nes\, waar bezoekers de klassieke
  auto's kunnen bewonderen.\n\nOp de zondag is iedereen geheel vrij om de d
 ag naar keuze in te vullen.\nNa aanmelding wordt informatie gestuurd over 
 het arrangement\, zoals o.a. de boottickets\, het verblijf en bonnen voor 
 de lunch.
ATTACH;FMTTYPE=image/jpeg:https://bezoekhetnoorden.nl/new/wp-content/uploa
 ds/2018/12/klassiekerweekend-gallery1.0f5ae966.jpg
CATEGORIES:Tocht
LOCATION:\, \, 
X-APPLE-STRUCTURED-LOCATION;VALUE=URI;X-ADDRESS=\, ;X-APPLE-RADIUS=100;X-TI
 TLE=:geo:0,0
END:VEVENT
BEGIN:VTIMEZONE
TZID:Europe/Amsterdam
X-LIC-LOCATION:Europe/Amsterdam
BEGIN:DAYLIGHT
DTSTART:20190331T030000
TZOFFSETFROM:+0100
TZOFFSETTO:+0200
TZNAME:CEST
END:DAYLIGHT
END:VTIMEZONE
END:VCALENDAR