﻿BEGIN:VCALENDAR
VERSION:2.0
PRODID:-//wp-events-plugin.com//7.2.3.1//EN
TZID:Europe/Amsterdam
X-WR-TIMEZONE:Europe/Amsterdam
BEGIN:VEVENT
UID:1600@bezoekhetnoorden.nl
DTSTART;TZID=Europe/Amsterdam:20191006T110000
DTEND;TZID=Europe/Amsterdam:20191006T160000
DTSTAMP:20190228T180008Z
URL:https://bezoekhetnoorden.nl/evenementen/kinder-buiten-festival/
SUMMARY:Kinder Buiten Festival
DESCRIPTION:Een superleuk actief festival voor kinderen van alle leeftijden
 . Net als vorig jaar zijn alle activiteiten gratis. Je kunt knutselen\, kl
 immen en klauteren\, spelen en nog heel veel meer. Een paar weken van te v
 oren staat hier een overzicht wat er allemaal te doen is.\n
ATTACH;FMTTYPE=image/jpeg:https://bezoekhetnoorden.nl/new/wp-content/uploa
 ds/2019/02/2014-10-Kinder-Buiten-Festival-JV-9-klein1.jpg
CATEGORIES:Festival
LOCATION:\, \, 
X-APPLE-STRUCTURED-LOCATION;VALUE=URI;X-ADDRESS=\, ;X-APPLE-RADIUS=100;X-TI
 TLE=:geo:0,0
END:VEVENT
BEGIN:VTIMEZONE
TZID:Europe/Amsterdam
X-LIC-LOCATION:Europe/Amsterdam
BEGIN:DAYLIGHT
DTSTART:20190331T030000
TZOFFSETFROM:+0100
TZOFFSETTO:+0200
TZNAME:CEST
END:DAYLIGHT
END:VTIMEZONE
END:VCALENDAR