﻿BEGIN:VCALENDAR
VERSION:2.0
PRODID:-//wp-events-plugin.com//7.2.3.1//EN
TZID:Europe/Amsterdam
X-WR-TIMEZONE:Europe/Amsterdam
BEGIN:VEVENT
UID:1951@bezoekhetnoorden.nl
DTSTART;TZID=Europe/Amsterdam:20191222T130000
DTEND;TZID=Europe/Amsterdam:20191222T170000
DTSTAMP:20190929T112832Z
URL:https://bezoekhetnoorden.nl/evenementen/kika-wintertrail-bargerveen/
SUMMARY:KIKA Wintertrail Bargerveen
DESCRIPTION:Sportief bezig zijn in een fantastisch decor\; De KIKA Wintertr
 ail Bargerveen. Een hardloopevenement voor de liefhebber\, voor de sportie
 veling en voor de winnaar! 4 Mijl of 10 km genieten of afzien\, wat gaat h
 et worden?! Mooie prijzen in de diverse categorieën en een unieke herinne
 ring voor iedere deelnemer. Opbrengsten voor Stichting Kika en Staatsbosbe
 heer. Noteer de datum vast in de agenda
ATTACH;FMTTYPE=image/jpeg:https://bezoekhetnoorden.nl/new/wp-content/uploa
 ds/2019/09/kikawintertrail.jpg
CATEGORIES:Hardlopen
LOCATION:\, \, 
X-APPLE-STRUCTURED-LOCATION;VALUE=URI;X-ADDRESS=\, ;X-APPLE-RADIUS=100;X-TI
 TLE=:geo:0,0
END:VEVENT
BEGIN:VTIMEZONE
TZID:Europe/Amsterdam
X-LIC-LOCATION:Europe/Amsterdam
BEGIN:STANDARD
DTSTART:20191027T020000
TZOFFSETFROM:+0200
TZOFFSETTO:+0100
TZNAME:CET
END:STANDARD
END:VTIMEZONE
END:VCALENDAR