﻿BEGIN:VCALENDAR
VERSION:2.0
PRODID:-//wp-events-plugin.com//7.2.3.1//EN
TZID:Europe/Amsterdam
X-WR-TIMEZONE:Europe/Amsterdam
BEGIN:VEVENT
UID:2189@bezoekhetnoorden.nl
DTSTART;TZID=Europe/Amsterdam:20241214T140000
DTEND;TZID=Europe/Amsterdam:20241215T180000
DTSTAMP:20241009T173735Z
URL:https://bezoekhetnoorden.nl/evenementen/kerstmarkt-bij-ellert-en-bramm
 ert/
SUMMARY:Kerstmarkt bij Ellert en Brammert!
DESCRIPTION:Stap binnen in de betoverende wereld van de feestdagen op 14 en
  15 december tijdens de Reuzegellige Kerstmarkt bij Ellert en Brammert! Gr
 atis parkeren en een entree van slechts € 5\,- maken deze kerstmarkt een
  niet te missen evenement voor het hele gezin.\n\nOp zaterdag verwelkomen 
 we je graag van 14:00 uur tot 20:00 uur\, terwijl de festiviteiten op zond
 ag doorgaan van 11:00 uur tot 18:00 uur. Donateurs van het museum genieten
  van gratis toegang\, dus word nu donateur en mis deze kerstviering niet!\
 n\nLaat je betoveren door de gezelligheid van de kraampjes\, waar je de mo
 oiste kerstcadeaus en decoraties kunt vinden. Terwijl je langs de kraampje
 s slentert\, wordt het hele museum omgetoverd tot een sprookjesachtige ker
 stsfeer\, compleet met prachtige verlichting en feestelijke decoraties.\n\
 nGeniet van toneelspelers die je in de kerststemming brengen en verwen jez
 elf met heerlijk eten en drinken van lokale leveranciers. Of je nu op zoek
  bent naar een warme chocolademelk met slagroom  of een traditionele kerst
 lekkernij\, je vindt het hier!\n\nEn het beste van alles\, honden zijn aan
 gelijnd toegestaan\, dus je harige vrienden kunnen ook deelnemen aan de fe
 stiviteiten en genieten van de feestelijke sfeer.\n\nMis deze kans niet om
  in de kerststemming te komen en samen met ons te genieten van een onverge
 telijke kerstmarkt bij Ellert en Brammert! We kijken ernaar uit je te verw
 elkomen in ons betoverde museum.
ATTACH;FMTTYPE=image/jpeg:https://bezoekhetnoorden.nl/new/wp-content/uploa
 ds/2024/10/Reuze-Kerstmarkt.jpg
CATEGORIES:Kerst
LOCATION:Ellert & brammert\, Tramstraat 73\, Schoonoord\, Drenthe\, Nederla
 nd
X-APPLE-STRUCTURED-LOCATION;VALUE=URI;X-ADDRESS=Tramstraat 73\, Schoonoord\
 , Drenthe\, Nederland;X-APPLE-RADIUS=100;X-TITLE=Ellert & brammert:geo:0,0
END:VEVENT
BEGIN:VTIMEZONE
TZID:Europe/Amsterdam
X-LIC-LOCATION:Europe/Amsterdam
BEGIN:STANDARD
DTSTART:20241027T020000
TZOFFSETFROM:+0200
TZOFFSETTO:+0100
TZNAME:CET
END:STANDARD
END:VTIMEZONE
END:VCALENDAR