﻿BEGIN:VCALENDAR
VERSION:2.0
PRODID:-//wp-events-plugin.com//7.2.3.1//EN
TZID:Europe/Amsterdam
X-WR-TIMEZONE:Europe/Amsterdam
BEGIN:VEVENT
UID:2038@bezoekhetnoorden.nl
DTSTART;TZID=Europe/Amsterdam:20200919T110000
DTEND;TZID=Europe/Amsterdam:20200919T170000
DTSTAMP:20200224T175538Z
URL:https://bezoekhetnoorden.nl/evenementen/jaarmarkt-met-vlomarkt-in-borg
 er/
SUMMARY:Jaarmarkt met vlomarkt in Borger
DESCRIPTION:De jaarmarkt in Borger vindt plaats aan de Hoofdstraat ten zuid
 en van de rotonde\, aansluitend is er een grote vlomarkt. Ook aanliggende 
 winkels doen mee aan de jaarmarkt met een kraam. Kom gezellig rondsnuffele
 n in de kramen met nieuwe en gebruikte spullen\, er is vast iets van uw ga
 ding bij. Of neem iets te eten of te drinken bij een van de foodkramen. De
  toegang tot de markt en het parkeren in de omgeving van de markt zijn gra
 tis. Meer informatie vindt u op https://www.marktenindrenthe.nl\n
ATTACH;FMTTYPE=image/jpeg:https://bezoekhetnoorden.nl/new/wp-content/uploa
 ds/2020/02/Huurkraam.nl-Borger01-21september2019.jpg
CATEGORIES:Markt / Braderie
LOCATION:Centrum Borger\, Hoofdstraat 34\, Borger\, Drenthe\, Nederland
X-APPLE-STRUCTURED-LOCATION;VALUE=URI;X-ADDRESS=Hoofdstraat 34\, Borger\, D
 renthe\, Nederland;X-APPLE-RADIUS=100;X-TITLE=Centrum Borger:geo:0,0
END:VEVENT
BEGIN:VTIMEZONE
TZID:Europe/Amsterdam
X-LIC-LOCATION:Europe/Amsterdam
BEGIN:DAYLIGHT
DTSTART:20200329T030000
TZOFFSETFROM:+0100
TZOFFSETTO:+0200
TZNAME:CEST
END:DAYLIGHT
END:VTIMEZONE
END:VCALENDAR