﻿BEGIN:VCALENDAR
VERSION:2.0
PRODID:-//wp-events-plugin.com//7.2.3.1//EN
TZID:Europe/Amsterdam
X-WR-TIMEZONE:Europe/Amsterdam
BEGIN:VEVENT
UID:2173@bezoekhetnoorden.nl
DTSTART;TZID=Europe/Amsterdam:20240729T140000
DTEND;TZID=Europe/Amsterdam:20240804T170000
DTSTAMP:20240505T165329Z
URL:https://bezoekhetnoorden.nl/evenementen/in-het-wilde-weg-zomerweek/
SUMMARY:In Het WIlde Weg Zomerweek
DESCRIPTION:In Het Wilde Weg staat voor natuurbeleving\, verwondering en li
 efde voor het leven met en in de natuur. Wil jij ook eens een even helemaa
 l In Het Wilde Weg? Dat kan!\n\nKom samen met ons kamperen (in jouw tent\,
  camper of caravan) bij camping de Vreemde Eend in Sellingen.\n\nSellingen
  ligt in Westerwolde\, een voor velen onontdekt stukje Nederland. Westerwo
 lde heeft een verrassend glooiend landschap\, oude bossen en prachtige bee
 kdalen waar de Ruiten Aa doorheen stroomt.\n\nWe gaan de natuur beleven\, 
 stiltewandelingen maken\, eetbare wilde planten zoeken\, koken op het kamp
 vuur en kanotochten maken op de Ruiten Aa.\n\n&nbsp\;
ATTACH;FMTTYPE=image/jpeg:https://bezoekhetnoorden.nl/new/wp-content/uploa
 ds/2024/05/In-Het-WIlde-Weg-Zomerweek.jpg
CATEGORIES:Zomer evenement
LOCATION:Camping de Vreemde Eend\, Laudermarkenweg 2\, Sellingen\, Groninge
 n\, Nederland
X-APPLE-STRUCTURED-LOCATION;VALUE=URI;X-ADDRESS=Laudermarkenweg 2\, Selling
 en\, Groningen\, Nederland;X-APPLE-RADIUS=100;X-TITLE=Camping de Vreemde E
 end:geo:0,0
END:VEVENT
BEGIN:VTIMEZONE
TZID:Europe/Amsterdam
X-LIC-LOCATION:Europe/Amsterdam
BEGIN:DAYLIGHT
DTSTART:20240331T030000
TZOFFSETFROM:+0100
TZOFFSETTO:+0200
TZNAME:CEST
END:DAYLIGHT
END:VTIMEZONE
END:VCALENDAR