﻿BEGIN:VCALENDAR
VERSION:2.0
PRODID:-//wp-events-plugin.com//7.2.3.1//EN
TZID:Europe/Amsterdam
X-WR-TIMEZONE:Europe/Amsterdam
BEGIN:VEVENT
UID:1693@bezoekhetnoorden.nl
DTSTART;TZID=Europe/Amsterdam:20190317T130000
DTEND;TZID=Europe/Amsterdam:20190317T163000
DTSTAMP:20190310T103023Z
URL:https://bezoekhetnoorden.nl/evenementen/icw-in-middelstum/
SUMMARY:ICW in Middelstum
DESCRIPTION:Zondag 17 maart organiseert Cycle Sport Groningen​ de jaarlij
 kse ICW in Middelstum. Deze koers mag inmiddels wel een klassieker genoemd
  worden op de Noordelijke wielerkalender. Het fraaie parcours\, een omloop
 je van 6\,2 km\, is ongewijzigd t.o.v. voorgaande jaren.\n\nHet programma 
 is als volgt:\n13:00 uur - Sportklasse & Nieuwelingen & KNWU Basisleden : 
 48 km\n13:01 uur - Dames (amateurs\, junioren\, basisleden) : 42 km\n15:00
  uur - Amateurs & Junioren : 62 km\n\nStart/finish is bij Robbe Interieurb
 ouw\, Pompsterweg 14 te Middelstum.\n\nKNWU-licentiehouders kunnen inschri
 jven via de KNWU-website.
ATTACH;FMTTYPE=image/jpeg:https://bezoekhetnoorden.nl/new/wp-content/uploa
 ds/2019/03/ICW-in-Middelstum.jpg
CATEGORIES:Wielrennen
LOCATION:\, \, 
X-APPLE-STRUCTURED-LOCATION;VALUE=URI;X-ADDRESS=\, ;X-APPLE-RADIUS=100;X-TI
 TLE=:geo:0,0
END:VEVENT
BEGIN:VTIMEZONE
TZID:Europe/Amsterdam
X-LIC-LOCATION:Europe/Amsterdam
BEGIN:STANDARD
DTSTART:20181028T020000
TZOFFSETFROM:+0200
TZOFFSETTO:+0100
TZNAME:CET
END:STANDARD
END:VTIMEZONE
END:VCALENDAR