﻿BEGIN:VCALENDAR
VERSION:2.0
PRODID:-//wp-events-plugin.com//7.2.3.1//EN
TZID:Europe/Amsterdam
X-WR-TIMEZONE:Europe/Amsterdam
BEGIN:VEVENT
UID:1733@bezoekhetnoorden.nl
DTSTART;TZID=Europe/Amsterdam:20190413T150000
DTEND;TZID=Europe/Amsterdam:20190413T163000
DTSTAMP:20190319T154840Z
URL:https://bezoekhetnoorden.nl/evenementen/hondstong-meisje-van-yde/
SUMMARY:Hondstong\, meisje van Yde
DESCRIPTION:Dit is een activiteit van IVN Vries: \n\nDe wandeling onder lei
 ding van een deskundige IVN gids duurt ca. 1\,5 uur. Goed schoeisel wordt 
 aanbevolen.\nIngeklemd door de zuideres van het dorp Yde en het voormalig 
 grote heideveld ten noorden van Vries ligt het beekdal van de Runsloot. \n
 \nDe Runsloot is over een lengte van ongeveer 1500 meter niet gekanaliseer
 d. Zodoende is er sprake van een vrij meanderend beekje. Het beekdal heeft
  door het voorkomen van talloze houtwallen\, zandwegen en hakhoutbosjes ee
 n zeer besloten karakter. In cultuurhistorisch opzicht is het een voorbeel
 d van een gaaf\, kleinschalig beekdallandschap. \n\nIn 1996 werden enkele 
 bouwlandpercelen aan de noordzijde omgevormd tot natuur en aan het reserva
 at toegevoegd. Al vrij snel doken hier zeldzame plantjes op zoals dwergvla
 s\, draadgentiaan en zonnedauw. Uit de vele archeologische vondsten die in
  en nabij dit gebied gedaan zijn\, blijkt dat de bewoningsgeschiedenis tot
  ver in de prehistorie teruggaat. \n\nIn een veentje op de westflank van h
 et beekdal is een veenlijk gevonden\, daterend uit de IJzertijd. Dit veenl
 ijk\, beter bekend als 'het Meisje van Yde' is te zien in het Provinciaal 
 Museum in Assen.\n
ATTACH;FMTTYPE=image/jpeg:https://bezoekhetnoorden.nl/new/wp-content/uploa
 ds/2019/03/meisje-van-yde.jpg
CATEGORIES:Wandelen
LOCATION:\, \, 
X-APPLE-STRUCTURED-LOCATION;VALUE=URI;X-ADDRESS=\, ;X-APPLE-RADIUS=100;X-TI
 TLE=:geo:0,0
END:VEVENT
BEGIN:VTIMEZONE
TZID:Europe/Amsterdam
X-LIC-LOCATION:Europe/Amsterdam
BEGIN:DAYLIGHT
DTSTART:20190331T030000
TZOFFSETFROM:+0100
TZOFFSETTO:+0200
TZNAME:CEST
END:DAYLIGHT
END:VTIMEZONE
END:VCALENDAR