﻿BEGIN:VCALENDAR
VERSION:2.0
PRODID:-//wp-events-plugin.com//7.2.3.1//EN
TZID:Europe/Amsterdam
X-WR-TIMEZONE:Europe/Amsterdam
BEGIN:VEVENT
UID:475@bezoekhetnoorden.nl
DTSTART;TZID=Europe/Amsterdam:20190705T180000
DTEND;TZID=Europe/Amsterdam:20190707T180000
DTSTAMP:20180304T111451Z
URL:https://bezoekhetnoorden.nl/evenementen/historische-havendagen-coevord
 en/
SUMMARY:Historische Havendagen Coevorden
DESCRIPTION:De kade van de haven in Coevorden zal als tribune dienen en de 
 haven met haar mooie historische schepen zal als podium ingezet worden.\n\
 nDaarnaast zal er vanaf vrijdag weer van alles te doen zijn in het centrum
  van Coevorden. Je kunt weer lekker koopjes zoeken en rondwandelen op de m
 arkt met oude ambachten en de braderie. Voor de kinderen zijn er weer de s
 pringkussens\, de bootjes in de vijver en voorstellingen. We hopen dat de 
 vloot en roadshow van de Koninklijke marine weer aanwezig is zodat de klim
 toren weer voor veel kinderen een uitdaging wordt.\n\nDe Historische haven
 dagen draaien vooral om de Historische schepen. De haven en de kades ligge
 n vol met mooie boten waarbij iedereen in gesprek kan met de eigenaren.\n\
 nEen echt familiefeest met veel activiteiten voor jong en oud. De Historis
 che Havendagen in Coevorden worden elke twee jaar georganiseerd.
ATTACH;FMTTYPE=image/jpeg:https://bezoekhetnoorden.nl/new/wp-content/uploa
 ds/2017/07/havendagen-coevorden.jpg
CATEGORIES:Feest
LOCATION:\, \, 
X-APPLE-STRUCTURED-LOCATION;VALUE=URI;X-ADDRESS=\, ;X-APPLE-RADIUS=100;X-TI
 TLE=:geo:0,0
END:VEVENT
BEGIN:VTIMEZONE
TZID:Europe/Amsterdam
X-LIC-LOCATION:Europe/Amsterdam
BEGIN:DAYLIGHT
DTSTART:20190331T030000
TZOFFSETFROM:+0100
TZOFFSETTO:+0200
TZNAME:CEST
END:DAYLIGHT
END:VTIMEZONE
END:VCALENDAR