﻿BEGIN:VCALENDAR
VERSION:2.0
PRODID:-//wp-events-plugin.com//7.2.3.1//EN
TZID:Europe/Amsterdam
X-WR-TIMEZONE:Europe/Amsterdam
BEGIN:VEVENT
UID:311@bezoekhetnoorden.nl
DTSTART;TZID=Europe/Amsterdam:20200606T100000
DTEND;TZID=Europe/Amsterdam:20200607T230000
DTSTAMP:20191025T172357Z
URL:https://bezoekhetnoorden.nl/evenementen/hello-festival/
SUMMARY:Hello festival
DESCRIPTION:hello festival is een 2-daags festival aan de Grote Rietplas in
  Emmen (Drenthe). Het festival werd de eerste maal in 2002 georganiseerd o
 nder de naam Back to the 80’s. In 2010 werd de naam gewijzigd in Retropo
 p.\n\nVanaf 1 november 2018 is ‘hello’ festival de nieuwe naam. Een fe
 stival belevenis voor jong en oud(er) met een gevarieerde en verrassende l
 ine-up van bands uit het verleden\, heden en toekomst.\n\nhello festival i
 s een No Limit Events productie.\n\nCombineer je bezoek aan Hello Festival
  met een ontspannend verblijf bij Center Parcs Parc Sandur. Center Parcs P
 arc Sandur ligt op loopafstand van het festivalterrein en is dus dé ideal
 e uitvalsbasis!\n\nBoek je overnachting\n
ATTACH;FMTTYPE=image/jpeg:https://bezoekhetnoorden.nl/new/wp-content/uploa
 ds/2015/04/Retropop.jpg
CATEGORIES:Muziek
LOCATION:\, \, 
X-APPLE-STRUCTURED-LOCATION;VALUE=URI;X-ADDRESS=\, ;X-APPLE-RADIUS=100;X-TI
 TLE=:geo:0,0
END:VEVENT
BEGIN:VTIMEZONE
TZID:Europe/Amsterdam
X-LIC-LOCATION:Europe/Amsterdam
BEGIN:DAYLIGHT
DTSTART:20200329T030000
TZOFFSETFROM:+0100
TZOFFSETTO:+0200
TZNAME:CEST
END:DAYLIGHT
END:VTIMEZONE
END:VCALENDAR