﻿BEGIN:VCALENDAR
VERSION:2.0
PRODID:-//wp-events-plugin.com//7.2.3.1//EN
TZID:Europe/Amsterdam
X-WR-TIMEZONE:Europe/Amsterdam
BEGIN:VEVENT
UID:1193@bezoekhetnoorden.nl
DTSTART;TZID=Europe/Amsterdam:20241019T130000
DTEND;TZID=Europe/Amsterdam:20241019T210000
DTSTAMP:20240830T172708Z
URL:https://bezoekhetnoorden.nl/evenementen/halloweendagen-in-drouwenerzan
 d-2/
SUMMARY:Halloweendagen in Drouwenerzand
DESCRIPTION:Het Attractiepark is dit jaar opnieuw ingedeeld in 4 verschille
 nde thema's: Winterplein\, Vikingen\, Dierenwereld en de Franse Revolutie.
  De decoratie en griezels zijn hierop aangepast.\n\nVoor jong\, jeugd en o
 ud(er)\nHalloween bij Drouwenerzand is geschikt- en bedoelt voor het hele 
 gezin 'jong\, jeugd en oud(er)' zoals wij dat noemen\, èn Halloweenliefhe
 bbers met lef!\n\nEen Halloweendag is ècht anders dan anders. Het gehele 
 park is in griezelig\, gezellige en soms misschien beetje enge Halloweensf
 eer\; overal liggen pompoenen\, maisstengels\, strobalen\, vogelverschrikk
 ers en Halloweendecoraties passend bij het themagebied.\n\nOok staat er ee
 n grote tent in het Attractiepark waar je lekker even kunt bijkomen van al
 le spanning.\n\nSweet Halloween\; 13.00 - 17.00 uur\nTijdens Sweet Hallowe
 en zijn de activiteiten en griezels gericht op gezinnen met kinderen tot c
 a. 12 jaar\, daarom noemen we dit ‘Sweet Halloween’. Er zijn gratis ac
 tiviteiten zoals pompoen uithollen\, ‘wonden laten plaatsen' en kinderen
  in de basisschool kunnen gratis 2 'altijd prijs' spelletjes doen. Voor de
  jongere kinderen is er een vriendelijk Halloweenhuisje genaamd 'Free(a)k'
 s Zoo\, hier kunnen ze kennismaken met een Halloweenhuis. Natuurlijk lopen
  er ook 'vriendelijke' Halloweenfiguren door het attractiepark\, een fanta
 stische belevenis voor de kinderen om mee op de foto te gaan. Uiteraard mo
 gen jullie ook gewoon tot 21.00 uur blijven.\n\n\nScary Halloween\; 18.00 
 - 21.00 uur\nVanaf 18.00 uur luiden we het enge tijdperk ‘Scary Hallowee
 n’ in met een gruwelijke Griezelparade. Vanaf dat moment dwalen enge gri
 ezels door het Attractiepark\, let dan op in de zones\; Franse Revolutie\,
  Vikingen en de Dierenwereld\, we hanteren daar dan een adviesleeftijd van
  12+. Uiteraard zijn jullie vanaf 13.00 uur van harte welkom.\n\nVerkleed 
 naar het Attractiepark\nKinderen in de basisschoolleeftijd mogen tijdens d
 e Halloweendagen verkleed naar het attractiepark komen. Voor kinderen van 
 12/13 jaar en ouder is het dus NIET toegestaan om verkleed als griezel het
  attractiepark te betreden. Om mis(ver)standen te voorkomen vinden we het 
 belangrijk dat het voor onze gasten duidelijk is dat alle griezels die tij
 dens een Halloweendag in het pretpark lopen\, bij Drouwenerzand horen. We 
 rekenen op jullie begrip.\n\nSmakelijk eten\nTijdens de Halloweendagen is 
 de keuken geopend van 13.00 - 21.00 uur en kun je dus genieten van wat onz
 e All-In formule te bieden heeft: vers fruit\, verse dagsoep\, belegde bro
 odjes\, frites\, diverse snacks\, sausen\, koffie\, thee\, limonade en ijs
 .
ATTACH;FMTTYPE=image/jpeg:https://bezoekhetnoorden.nl/new/wp-content/uploa
 ds/2016/10/halloween-drouwenerzand.jpg
CATEGORIES:Halloween
LOCATION:Drouwenerzand attractiepark\, Gasselterstraat 7\, Drouwen\, Drenth
 e\, Nederland
X-APPLE-STRUCTURED-LOCATION;VALUE=URI;X-ADDRESS=Gasselterstraat 7\, Drouwen
 \, Drenthe\, Nederland;X-APPLE-RADIUS=100;X-TITLE=Drouwenerzand attractiep
 ark:geo:0,0
END:VEVENT
BEGIN:VTIMEZONE
TZID:Europe/Amsterdam
X-LIC-LOCATION:Europe/Amsterdam
BEGIN:DAYLIGHT
DTSTART:20240331T030000
TZOFFSETFROM:+0100
TZOFFSETTO:+0200
TZNAME:CEST
END:DAYLIGHT
END:VTIMEZONE
END:VCALENDAR