﻿BEGIN:VCALENDAR
VERSION:2.0
PRODID:-//wp-events-plugin.com//7.2.3.1//EN
TZID:Europe/Amsterdam
X-WR-TIMEZONE:Europe/Amsterdam
BEGIN:VEVENT
UID:2179@bezoekhetnoorden.nl
DTSTART;TZID=Europe/Amsterdam:20241018T180000
DTEND;TZID=Europe/Amsterdam:20241018T220000
DTSTAMP:20240922T170412Z
URL:https://bezoekhetnoorden.nl/evenementen/halloween-in-slagharen/
SUMMARY:Halloween in Slagharen - Western Nightmares
DESCRIPTION:Je grootste nachtmerrie wordt werkelijkheid. Als de duisternis 
 valt\, verandert Slagharen in een sinister landschap. Wat overdag vrolijk 
 en onschuldig leek verandert ‘s avonds in één grote Western Nightmare.
  Zeventig acteurs zullen er in drie angstaanjagende walkthroughs en drie s
 care zones alles aan doen om jouw de nachtmerrie van je leven te bezorgen.
 \n\nDe kraaien nemen het over\nHet doolhof van stro is een lange tijd een 
 bron van vreugde voor de locale bevolking geweest\, maar 's nachts is er i
 ets onheilspellends gaande. Een donkere schaduw verspreidt zich over het v
 eld op zoek naar een nieuwe prooi. Ga als sterveling 's nachts het doolhof
  niet in\, het is niet veilig!\n\nWaar de verschoppelingen leven\n's Avond
 s is Outcast Camp een plek van verschoppelingen die ervoor hebben gekozen 
 ver weg te leven van de samenleving en alle regels. Zij beschermen vol tro
 ts hun territorium\, zelfs wanneer daar geweld voor nodig is. Als je eenma
 al Outcast Camp hebt betreden is er geen weg meer terug. Het word je thuis
 \, of het nu levend of dood is. \n\nHet huis van de lost bandits\nVroeger 
 woonde er een familie in een boerderij. Op een dag sloeg het noodlot toe. 
 De familie verdween zonder ook maar één spoor achter te laten. Een bezoe
 k aan hun huis brengt je terug naar het jaar 1850. Is de familie wel echt 
 verdwenen of zijn ze op zoek naar nieuwe bewoners? 
ATTACH;FMTTYPE=image/jpeg:https://bezoekhetnoorden.nl/new/wp-content/uploa
 ds/2024/09/Western-Nightmares.jpg
CATEGORIES:Halloween
LOCATION:Attractie Slagharen\, Zwarte Dijk 37\, Slagharen\, Overijsel\, Ned
 erland
X-APPLE-STRUCTURED-LOCATION;VALUE=URI;X-ADDRESS=Zwarte Dijk 37\, Slagharen\
 , Overijsel\, Nederland;X-APPLE-RADIUS=100;X-TITLE=Attractie Slagharen:geo
 :0,0
END:VEVENT
BEGIN:VTIMEZONE
TZID:Europe/Amsterdam
X-LIC-LOCATION:Europe/Amsterdam
BEGIN:DAYLIGHT
DTSTART:20240331T030000
TZOFFSETFROM:+0100
TZOFFSETTO:+0200
TZNAME:CEST
END:DAYLIGHT
END:VTIMEZONE
END:VCALENDAR