﻿BEGIN:VCALENDAR
VERSION:2.0
PRODID:-//wp-events-plugin.com//7.2.3.1//EN
TZID:Europe/Amsterdam
X-WR-TIMEZONE:Europe/Amsterdam
BEGIN:VEVENT
UID:540@bezoekhetnoorden.nl
DTSTART;TZID=Europe/Amsterdam:20201004T120000
DTEND;TZID=Europe/Amsterdam:20201004T150000
DTSTAMP:20191210T171719Z
URL:https://bezoekhetnoorden.nl/evenementen/geopark-hondsrug-classic/
SUMMARY:Geopark Hondsrug Classic
DESCRIPTION:De Hondsrug Classic is een van de grootste mountainbike eveneme
 nten waarbij alle categorieen in een wedstrijd starten. Van ervaren wedstr
 ijdrijders tot en met de recreant en liefhebber. Vanaf 1997 tot en met 201
 1 werd deze klassieker jaarlijks in oktober georganiseerd en hebben vele b
 ekende mountainbikers deelgenomen evenzo vele liefhebbers deze wedstrijd d
 oor de Staatsbossen van Gieten gereden. Jansen Event-Sportmanagement heeft
  het initiatief genomen om de Hondsrug Classic nieuw leven in te blazen. S
 inds 2014 onder de nieuwe naam: Geopark Hondsrug Classic.\n\nvoor prijen z
 ie website
ATTACH;FMTTYPE=image/jpeg:https://bezoekhetnoorden.nl/new/wp-content/uploa
 ds/2017/08/Geopark-Hondsrug-Classic.jpg
CATEGORIES:ATB tocht
LOCATION:\, \, 
X-APPLE-STRUCTURED-LOCATION;VALUE=URI;X-ADDRESS=\, ;X-APPLE-RADIUS=100;X-TI
 TLE=:geo:0,0
END:VEVENT
BEGIN:VTIMEZONE
TZID:Europe/Amsterdam
X-LIC-LOCATION:Europe/Amsterdam
BEGIN:DAYLIGHT
DTSTART:20200329T030000
TZOFFSETFROM:+0100
TZOFFSETTO:+0200
TZNAME:CEST
END:DAYLIGHT
END:VTIMEZONE
END:VCALENDAR