﻿BEGIN:VCALENDAR
VERSION:2.0
PRODID:-//wp-events-plugin.com//7.2.3.1//EN
TZID:Europe/Amsterdam
X-WR-TIMEZONE:Europe/Amsterdam
BEGIN:VEVENT
UID:342@bezoekhetnoorden.nl
DTSTART;TZID=Europe/Amsterdam:20190609T113000
DTEND;TZID=Europe/Amsterdam:20190609T163000
DTSTAMP:20190219T214132Z
URL:https://bezoekhetnoorden.nl/evenementen/gasterra-ladiesrun-groningen/
SUMMARY:GasTerra Ladiesrun Groningen
DESCRIPTION:Er kan gekozen worden voor een afstand van 2\,5 km\, 5 km\, 7\,
 5 km of 10 km. \nTrendy\, sportief\, entertainment\, fun\, ontmoeting en
 … Women Only!\n\nDat is de GasTerra Ladiesrun Groningen. Een hardloopeve
 nement dwars door het centrum van Groningen alleen voor vrouwen. \n\nOp de
  dag van de GasTerra Ladiesrun wordt het start- en finishgebied geheel omg
 ebouwd tot Pink Plaza waar onder andere een DJ\, masseurs en verschillende
  stands te vinden zijn.
ATTACH;FMTTYPE=image/jpeg:https://bezoekhetnoorden.nl/new/wp-content/uploa
 ds/2017/01/ladiesrun.jpg
CATEGORIES:Hardlopen
LOCATION:\, \, 
X-APPLE-STRUCTURED-LOCATION;VALUE=URI;X-ADDRESS=\, ;X-APPLE-RADIUS=100;X-TI
 TLE=:geo:0,0
END:VEVENT
BEGIN:VTIMEZONE
TZID:Europe/Amsterdam
X-LIC-LOCATION:Europe/Amsterdam
BEGIN:DAYLIGHT
DTSTART:20190331T030000
TZOFFSETFROM:+0100
TZOFFSETTO:+0200
TZNAME:CEST
END:DAYLIGHT
END:VTIMEZONE
END:VCALENDAR