﻿BEGIN:VCALENDAR
VERSION:2.0
PRODID:-//wp-events-plugin.com//7.2.3.1//EN
TZID:Europe/Amsterdam
X-WR-TIMEZONE:Europe/Amsterdam
BEGIN:VEVENT
UID:1892@bezoekhetnoorden.nl
DTSTART;TZID=Europe/Amsterdam:20190804T140000
DTEND;TZID=Europe/Amsterdam:20190804T163000
DTSTAMP:20190719T174733Z
URL:https://bezoekhetnoorden.nl/evenementen/fietstocht-rond-assen/
SUMMARY:Fietstocht rond Assen
DESCRIPTION:Op zondag 4 augustus van 14.00 tot 16.30 uur\, houdt Stichting 
 Het Drentse Landschap een schitterende fietstocht door de omgeving van Ass
 en. Deelname is gratis en aanmelden noodzakelijk. Aanmelden kan alleen via
  www.drentslandschap.nl/activiteiten. \n\nEen schitterende fietstocht door
  de landschapsgeschiedenis rond Assen. Met een deskundige gids fietst u la
 ngs de Drentsche Aa en historische dorpen als Deurze\, Anreep\, Witten\, T
 aarlo en Balloo. Ook de geschiedenis van de Drentse Hoofdvaart\, de Asserw
 ijk en het Noord-Willemskanaal komen aan de orde. Er wordt regelmatig gest
 opt om iets te vertellen. \nAanmelding is noodzakelijk in verband met een 
 maximum aantal deelnemers en kan via www.drentslandschap.nl/activiteiten. 
 (doorklikken naar de juiste activiteit). Na aanmelding ontvangt u de exact
 e startlocatie.\n
ATTACH;FMTTYPE=image/jpeg:https://bezoekhetnoorden.nl/new/wp-content/uploa
 ds/2019/07/Fietsers-Foto-Het-Drentse-Landschap.jpg
CATEGORIES:Fietsen
LOCATION:\, \, 
X-APPLE-STRUCTURED-LOCATION;VALUE=URI;X-ADDRESS=\, ;X-APPLE-RADIUS=100;X-TI
 TLE=:geo:0,0
END:VEVENT
BEGIN:VTIMEZONE
TZID:Europe/Amsterdam
X-LIC-LOCATION:Europe/Amsterdam
BEGIN:DAYLIGHT
DTSTART:20190331T030000
TZOFFSETFROM:+0100
TZOFFSETTO:+0200
TZNAME:CEST
END:DAYLIGHT
END:VTIMEZONE
END:VCALENDAR