﻿BEGIN:VCALENDAR
VERSION:2.0
PRODID:-//wp-events-plugin.com//7.2.3.1//EN
TZID:Europe/Amsterdam
X-WR-TIMEZONE:Europe/Amsterdam
BEGIN:VEVENT
UID:1320@bezoekhetnoorden.nl
DTSTART;TZID=Europe/Amsterdam:20180922T103000
DTEND;TZID=Europe/Amsterdam:20180922T153000
DTSTAMP:20180910T203711Z
URL:https://bezoekhetnoorden.nl/evenementen/fietsen-en-wandelen-in-het-bar
 gerveen/
SUMMARY:Fietsen en wandelen in het Bargerveen
DESCRIPTION:Op zaterdag 22 september 2018 organiseert het Veenloopcentrum t
 e Weiteveen een fiets- en wandeltocht door het Bargerveen.\nDeze tocht bes
 taat uit ongeveer 20 km. fietsen en ongeveer 5 km. wandelen. Dit alles ond
 er begeleiding van een deskundige gids die u het één en ander zal vertel
 len over het natuurgebied Het Bargerveen.\n\nHet programma ziet er als vol
 gt uit:\nWe starten om 10.30 uur met een kop koffie bij het Veenloopcentru
 m en gaan dan fietsen. Om ongeveer 13.00 uur zullen we de lunch gebruiken\
 , waarna we gaan wandelen in het prachtige Bargerveen.\nDaarna fietsen we 
 terug naar het Veenloopcentrum.\n\nTerugkomst om ongeveer 15.30 uur. Na af
 loop nog een kop heerlijke soep.\nDit alles voor de prijs van € 16\,50 p
 er persoon.\n
ATTACH;FMTTYPE=image/jpeg:https://bezoekhetnoorden.nl/new/wp-content/uploa
 ds/2018/09/veenloop.jpg
CATEGORIES:Arrangement
LOCATION:\, \, 
X-APPLE-STRUCTURED-LOCATION;VALUE=URI;X-ADDRESS=\, ;X-APPLE-RADIUS=100;X-TI
 TLE=:geo:0,0
END:VEVENT
BEGIN:VTIMEZONE
TZID:Europe/Amsterdam
X-LIC-LOCATION:Europe/Amsterdam
BEGIN:DAYLIGHT
DTSTART:20180325T030000
TZOFFSETFROM:+0100
TZOFFSETTO:+0200
TZNAME:CEST
END:DAYLIGHT
END:VTIMEZONE
END:VCALENDAR