﻿BEGIN:VCALENDAR
VERSION:2.0
PRODID:-//wp-events-plugin.com//7.2.3.1//EN
TZID:Europe/Amsterdam
X-WR-TIMEZONE:Europe/Amsterdam
BEGIN:VEVENT
UID:2178@bezoekhetnoorden.nl
DTSTART;TZID=Europe/Amsterdam:20240301T090000
DTEND;TZID=Europe/Amsterdam:20241101T220000
DTSTAMP:20240621T182826Z
URL:https://bezoekhetnoorden.nl/evenementen/elfstedensloep/
SUMMARY:Elfstedensloep
DESCRIPTION:Je kunt bij ons terecht om met een premium sloep een dag-\, avo
 ndtocht of meerdere dagen te varen\, en dat al vanaf €150 voor een hele 
 dag. De Maril 625 sloep is geschikt voor maximaal 8 personen. Ben je met
  een grotere groep van maximaal 12 personen? Dan hebben we ook een ruimere
  luxe Jan van Gent cabin-sloep welke op aanvraag te boeken is inclusief ka
 pitein. Bij al onze sloepen zijn catering mogelijkheden beschikbaar waardo
 or je volledig wordt ontzorgd.\n\n* Direct gelegen aan de Elfstedenroute\n
 \n* Premium kwaliteit sloepverhuur Workum\n\n* Maatwerk arrangementen &amp
 \; vaarroutes
ATTACH;FMTTYPE=image/jpeg:https://bezoekhetnoorden.nl/new/wp-content/uploa
 ds/2024/06/POSTER-ELFSTEDENSLOEP.jpg
CATEGORIES:Arrangement
LOCATION:Elfstedensloep verhuur\, Gerrit de Jongstrjitte 1\, Workum\, Fries
 land\, Nederland
X-APPLE-STRUCTURED-LOCATION;VALUE=URI;X-ADDRESS=Gerrit de Jongstrjitte 1\, 
 Workum\, Friesland\, Nederland;X-APPLE-RADIUS=100;X-TITLE=Elfstedensloep v
 erhuur:geo:0,0
END:VEVENT
BEGIN:VTIMEZONE
TZID:Europe/Amsterdam
X-LIC-LOCATION:Europe/Amsterdam
BEGIN:STANDARD
DTSTART:20231029T020000
TZOFFSETFROM:+0200
TZOFFSETTO:+0100
TZNAME:CET
END:STANDARD
BEGIN:DAYLIGHT
DTSTART:20240331T030000
TZOFFSETFROM:+0100
TZOFFSETTO:+0200
TZNAME:CEST
END:DAYLIGHT
BEGIN:STANDARD
DTSTART:20241027T020000
TZOFFSETFROM:+0200
TZOFFSETTO:+0100
TZNAME:CET
END:STANDARD
END:VTIMEZONE
END:VCALENDAR