﻿BEGIN:VCALENDAR
VERSION:2.0
PRODID:-//wp-events-plugin.com//7.2.3.1//EN
TZID:Europe/Amsterdam
X-WR-TIMEZONE:Europe/Amsterdam
BEGIN:VEVENT
UID:2004@bezoekhetnoorden.nl
DTSTART;TZID=Europe/Amsterdam:20200329T130000
DTEND;TZID=Europe/Amsterdam:20200329T160000
DTSTAMP:20200111T175539Z
URL:https://bezoekhetnoorden.nl/evenementen/doemiddag-klimaat-in-je-straat
 /
SUMMARY:Doemiddag Klimaat in je straat
DESCRIPTION:Hoe groen is jouw omgeving?\nWat gebeurt er als je veel steen i
 n je voortuin hebt liggen? Hoe gemakkelijk kan het water weg? Hoeveel groe
 n staat er in jouw straat? Veel vragen waar je mee aan de slag gaat tijden
 s de doemiddag 'Klimaat in je straat'. Ben je klaar? Bezoek dan samen met 
 je ouders de nieuwe expositie 'Klimaat in je straat'.  Er zijn veel leuke 
 doe-opdrachten!\nVoor deze gratis doemiddag hoef je je niet aan te melden.
  Je kunt samen met je ouders of begeleiders tussen 13.00 en 16.00 uur iede
 r moment binnen lopen om mee te doen.\n
ATTACH;FMTTYPE=image/jpeg:https://bezoekhetnoorden.nl/new/wp-content/uploa
 ds/2020/01/doorlatende-bestrating-e1572431363245.jpg
CATEGORIES:Kinderactiviteit
LOCATION:\, \, 
X-APPLE-STRUCTURED-LOCATION;VALUE=URI;X-ADDRESS=\, ;X-APPLE-RADIUS=100;X-TI
 TLE=:geo:0,0
END:VEVENT
BEGIN:VTIMEZONE
TZID:Europe/Amsterdam
X-LIC-LOCATION:Europe/Amsterdam
BEGIN:DAYLIGHT
DTSTART:20200329T030000
TZOFFSETFROM:+0100
TZOFFSETTO:+0200
TZNAME:CEST
END:DAYLIGHT
END:VTIMEZONE
END:VCALENDAR