﻿BEGIN:VCALENDAR
VERSION:2.0
PRODID:-//wp-events-plugin.com//7.2.3.1//EN
TZID:Europe/Amsterdam
X-WR-TIMEZONE:Europe/Amsterdam
BEGIN:VEVENT
UID:2187@bezoekhetnoorden.nl
DTSTART;TZID=Europe/Amsterdam:20240919T100000
DTEND;TZID=Europe/Amsterdam:20241110T170000
DTSTAMP:20240922T175807Z
URL:https://bezoekhetnoorden.nl/evenementen/dino-weken-in-aquazoo-leeuward
 en/
SUMMARY:Dino Weken in AquaZoo Leeuwarden
DESCRIPTION:De dino’s zijn weer terug in AquaZoo Leeuwarden! Durf jij het
  aan om ze een bezoek te brengen? Kom op ontdekkingstocht en voor je het w
 eet sta je niet alleen oog in oog met tijgers\, ijsberen en krokodillen\, 
 maar ook met levensechte\, gigantische\, brullende dino’s! Leer van alle
 s over deze imposante dieren\, van 19 september t/m 10 november in AquaZoo
  Leeuwarden!\n\nTijdens dit evenement gelden de normale openingstijden. Vo
 or de Dino Weken worden geen extra entreekosten gevraagd. Een standaard da
 gticket is voldoende en koop je online met korting. 
ATTACH;FMTTYPE=image/jpeg:https://bezoekhetnoorden.nl/new/wp-content/uploa
 ds/2024/09/dino-weken.jpg
CATEGORIES:Tentoonstelling
LOCATION:AquaZoo Leeuwarden\, De Groene Ster 2\, Leeuwarden\, Friesland\, 8
 926 XE\, AquaZoo \, Nederland
X-APPLE-STRUCTURED-LOCATION;VALUE=URI;X-ADDRESS=De Groene Ster 2\, Leeuward
 en\, Friesland\, 8926 XE\, AquaZoo \, Nederland;X-APPLE-RADIUS=100;X-TITLE
 =AquaZoo Leeuwarden:geo:0,0
END:VEVENT
BEGIN:VTIMEZONE
TZID:Europe/Amsterdam
X-LIC-LOCATION:Europe/Amsterdam
BEGIN:DAYLIGHT
DTSTART:20240331T030000
TZOFFSETFROM:+0100
TZOFFSETTO:+0200
TZNAME:CEST
END:DAYLIGHT
BEGIN:STANDARD
DTSTART:20241027T020000
TZOFFSETFROM:+0200
TZOFFSETTO:+0100
TZNAME:CET
END:STANDARD
END:VTIMEZONE
END:VCALENDAR