﻿BEGIN:VCALENDAR
VERSION:2.0
PRODID:-//wp-events-plugin.com//7.2.3.1//EN
TZID:Europe/Amsterdam
X-WR-TIMEZONE:Europe/Amsterdam
BEGIN:VEVENT
UID:1325@bezoekhetnoorden.nl
DTSTART;TZID=Europe/Amsterdam:20181115T200000
DTEND;TZID=Europe/Amsterdam:20181115T220000
DTSTAMP:20180914T150247Z
URL:https://bezoekhetnoorden.nl/evenementen/derek-ogilvie-hello-again-tour
 -4/
SUMMARY:Derek Ogilvie - Hello Again Tour
DESCRIPTION:Derek Ogilvie kan gerust hét bekendste medium in Nederland gen
 oemd worden. Na een lange carrière op de Nederlandse televisie en vele su
 ccesvolle theatershows\, is Derek weer terug in het land voor een nieuwe t
 heatertour. Grijp dus nu uw kans om in contact te komen met uw overleden d
 ierbaren! \n\nDerek zijn dynamische persoonlijkheid staat garant voor een 
 zeer onderhoudende show met een achtbaan aan emoties.\n\nGoed om te weten:
 \n- Bij iedere show is er een tolk aanwezig die voor Derek en het publiek 
 vertaalt. Ook wanneer u geen Engels spreekt of verstaat is de show dus goe
 d te volgen. \n- Toegang tot de shows voor kinderen vanaf 12 jaar is allee
 n mogelijk onder begeleiding en verantwoording van de ouder(s) en/of wette
 lijke voogd. Er worden tijdens de shows\, net zoals in Derek zijn tv progr
 amma's\, gevoelige onderwerpen behandeld waarbij thema's van volwassen aar
 d aan bod kunnen komen.\n\nbestel je tickets via Ticketmaster
CATEGORIES:Tour Derek Ogilvie
LOCATION:\, \, 
X-APPLE-STRUCTURED-LOCATION;VALUE=URI;X-ADDRESS=\, ;X-APPLE-RADIUS=100;X-TI
 TLE=:geo:0,0
END:VEVENT
BEGIN:VTIMEZONE
TZID:Europe/Amsterdam
X-LIC-LOCATION:Europe/Amsterdam
BEGIN:STANDARD
DTSTART:20181028T020000
TZOFFSETFROM:+0200
TZOFFSETTO:+0100
TZNAME:CET
END:STANDARD
END:VTIMEZONE
END:VCALENDAR