﻿BEGIN:VCALENDAR
VERSION:2.0
PRODID:-//wp-events-plugin.com//7.2.3.1//EN
TZID:Europe/Amsterdam
X-WR-TIMEZONE:Europe/Amsterdam
BEGIN:VEVENT
UID:2171@bezoekhetnoorden.nl
DTSTART;TZID=Europe/Amsterdam:20241013T100000
DTEND;TZID=Europe/Amsterdam:20241013T170000
DTSTAMP:20241007T175454Z
URL:https://bezoekhetnoorden.nl/evenementen/demo-rc-bigscale-junkys-2/
SUMMARY:Demo RC Bigscale Junky's
DESCRIPTION:Op 13 Oktober verwelkomen we van 10.00-17.00 uur de RC Bigscale
  Junky's voor een spectaculaire demo op onze camping! Naast deze auto's is
  er ook een boot. Mis deze show niet\n
ATTACH;FMTTYPE=image/jpeg:https://bezoekhetnoorden.nl/new/wp-content/uploa
 ds/2024/04/RC-Bigscale.jpg
CATEGORIES:Demonstratie
LOCATION:Camping Moekesgat\, Heembadweg 17\, Ter Apel\, Groningen\, 9561 AA
 \, Nederland
GEO:52.884749;7.060105
X-APPLE-STRUCTURED-LOCATION;VALUE=URI;X-ADDRESS=Heembadweg 17\, Ter Apel\, 
 Groningen\, 9561 AA\, Nederland;X-APPLE-RADIUS=100;X-TITLE=Camping Moekesg
 at:geo:52.884749,7.060105
END:VEVENT
BEGIN:VTIMEZONE
TZID:Europe/Amsterdam
X-LIC-LOCATION:Europe/Amsterdam
BEGIN:DAYLIGHT
DTSTART:20240331T030000
TZOFFSETFROM:+0100
TZOFFSETTO:+0200
TZNAME:CEST
END:DAYLIGHT
END:VTIMEZONE
END:VCALENDAR