﻿BEGIN:VCALENDAR
VERSION:2.0
PRODID:-//wp-events-plugin.com//7.2.3.1//EN
TZID:Europe/Amsterdam
X-WR-TIMEZONE:Europe/Amsterdam
BEGIN:VEVENT
UID:1781@bezoekhetnoorden.nl
DTSTART;TZID=Europe/Amsterdam:20190615T210000
DTEND;TZID=Europe/Amsterdam:20190616T220000
DTSTAMP:20190331T144526Z
URL:https://bezoekhetnoorden.nl/evenementen/de-culinaire-verleiding-zuidla
 ren/
SUMMARY:De Culinaire Verleiding Zuidlaren
DESCRIPTION:Music & food festival\n
ATTACH;FMTTYPE=image/jpeg:https://bezoekhetnoorden.nl/new/wp-content/uploa
 ds/2019/03/De-Culinaire-Verleiding.jpg
CATEGORIES:Culinair
LOCATION:\, \, 
X-APPLE-STRUCTURED-LOCATION;VALUE=URI;X-ADDRESS=\, ;X-APPLE-RADIUS=100;X-TI
 TLE=:geo:0,0
END:VEVENT
BEGIN:VTIMEZONE
TZID:Europe/Amsterdam
X-LIC-LOCATION:Europe/Amsterdam
BEGIN:DAYLIGHT
DTSTART:20190331T030000
TZOFFSETFROM:+0100
TZOFFSETTO:+0200
TZNAME:CEST
END:DAYLIGHT
END:VTIMEZONE
END:VCALENDAR