﻿BEGIN:VCALENDAR
VERSION:2.0
PRODID:-//wp-events-plugin.com//7.2.3.1//EN
TZID:Europe/Amsterdam
X-WR-TIMEZONE:Europe/Amsterdam
BEGIN:VEVENT
UID:2066@bezoekhetnoorden.nl
DTSTART;TZID=Europe/Amsterdam:20211105T203000
DTEND;TZID=Europe/Amsterdam:20211105T213000
DTSTAMP:20211025T165537Z
URL:https://bezoekhetnoorden.nl/evenementen/de-andersons-een-mooiere-werel
 d-assen/
SUMMARY:De Andersons - Een mooiere wereld Assen
DESCRIPTION:Een mooiere wereld komt naar Assen\n\nDe nieuwe voorstelling va
 n het Zweeds-Nederlandse kleinkunstduo De Andersons is 5 november te bewon
 deren in Theater De Nieuwe Kolk in Assen. ‘Een mooiere wereld’ is een 
 vurig en humoristisch theaterconcert in de geest van de vrijgevochten Zwee
 dse schrijfster Astrid Lindgren. Hoe kun je binnen alle uitdagingen van he
 t hedendaagse leven toch speelsheid en verwondering behouden en zo bijdrag
 en aan een mooiere wereld?\n\nLevenskunst in turbulente tijden\nOp haar ze
 stigste klom Astrid Lindgren voor het oog van de camera in een boom\, terw
 ijl ze riep: “Er staat nergens in de wet van Mozes dat oude wijven niet 
 in bomen mogen klimmen.” Volwassenen denken vaak dat vroeger alles beter
  was\, omdat ze toen nog keken als kind: onbevangen\, zonder vooroordeel\,
  voordat groepsdruk en faalangst bezit van ze namen. Het leven was een spe
 l. De kunst is zo te blijven leven en zo te blijven kijken. Maar hoe blijf
  je een levenskunstenaar als je voortdurend struikelt over doemscenario’
 s? \n\nTheaterconcert vol humor én existentiële vragen Gewapend met lied
 jes\, humor en existentiële vragen gaan De Andersons op zoek naar antwoor
 den die ons allemaal aangaan. Ze zoeken hun toevlucht bij Astrid Lindgren.
  De schrijfster die jong en oud wees op het mooie en ongrijpbare in de wer
 eld en die zich inzette voor vrede\, gerechtigheid en kinderrechten. Ze we
 rd in heel Scandinavië gezien als de wijze vrouw bij wie je je hart kon l
 uchten en die je om raad kon vragen. Bij haar begint de zoektocht naar dat
  wat écht waarde heeft\, voor hun\, voor hun kind\, voor iedereen.\n\nOor
 spronkelijke kijk op de wereld\nHet gezelschap De Andersons (bestaande uit
  Anna Ågren en Roel Dullaart) wordt vaak geprezen om hun oorspronkelijke 
 kijk op de wereld\, die ze hartstochtelijk vertolken in voorstellingen vol
  muziek en prikkelende teksten. “Dit luisterrijke duo zingt de sterren v
 an de hemel met hun liederen en verhalen”\, schreef Hanneke Groenteman. 
 Nouchka van Brakel noemde het duo “hartverwarmend\, humorvol en ontroere
 nd”. Eerder maakten De Andersons een succesvolle voorstelling met Arjen 
 Lubach en voor ‘Een mooiere wereld’ werken ze samen met de bejubelde d
 ichter en schrijver Sjoerd Kuyper\, die recentelijk zijn zevende Zilveren 
 Griffel won. \n
ATTACH;FMTTYPE=image/jpeg:https://bezoekhetnoorden.nl/new/wp-content/uploa
 ds/2021/10/De-Andersons-Een-mooiere-wereld-1-1716x780-1.jpg
CATEGORIES:Cultuur
LOCATION:\, \, 
X-APPLE-STRUCTURED-LOCATION;VALUE=URI;X-ADDRESS=\, ;X-APPLE-RADIUS=100;X-TI
 TLE=:geo:0,0
END:VEVENT
BEGIN:VTIMEZONE
TZID:Europe/Amsterdam
X-LIC-LOCATION:Europe/Amsterdam
BEGIN:STANDARD
DTSTART:20211031T020000
TZOFFSETFROM:+0200
TZOFFSETTO:+0100
TZNAME:CET
END:STANDARD
END:VTIMEZONE
END:VCALENDAR