﻿BEGIN:VCALENDAR
VERSION:2.0
PRODID:-//wp-events-plugin.com//7.2.3.1//EN
TZID:Europe/Amsterdam
X-WR-TIMEZONE:Europe/Amsterdam
BEGIN:VEVENT
UID:1993@bezoekhetnoorden.nl
DTSTART;TZID=Europe/Amsterdam:20200125T110000
DTEND;TZID=Europe/Amsterdam:20200125T163000
DTSTAMP:20200103T180414Z
URL:https://bezoekhetnoorden.nl/evenementen/dag-van-de-drentse-geschiedeni
 s/
SUMMARY:Dag van de Drentse geschiedenis
DESCRIPTION:Deze dag wordt georganiseerd door Het Drentse Landschap in same
 nwerking met het Drents Archief: \nBen je nieuwsgierig naar het verleden v
 an je familie?\n\nDan mag je de Dag van de Drentse Familiegeschiedenis nie
 t missen! Het thema dit jaar is: arm en rijk.\nEen dag boordevol workshops
 \, lezingen\, een informatiemarkt\, presentaties van ervaren genealogen en
  een uniek kijkje achter de voordeur van Huis Overcingel. We presenteren d
 eze dag het archief van de familie van Lier\, die generaties lang het huis
  bewoonde.\n\nDe Dag van de Drentse Familiegeschiedenis is  in het Drents 
 Archief in Assen. De toegang is gratis! Voor sommige onderdelen is aanmeld
 en noodzakelijk.\n
ATTACH;FMTTYPE=image/jpeg:https://bezoekhetnoorden.nl/new/wp-content/uploa
 ds/2020/01/page1image33162464.jpg
CATEGORIES:Algemeen
LOCATION:\, \, 
X-APPLE-STRUCTURED-LOCATION;VALUE=URI;X-ADDRESS=\, ;X-APPLE-RADIUS=100;X-TI
 TLE=:geo:0,0
END:VEVENT
BEGIN:VTIMEZONE
TZID:Europe/Amsterdam
X-LIC-LOCATION:Europe/Amsterdam
BEGIN:STANDARD
DTSTART:20191027T020000
TZOFFSETFROM:+0200
TZOFFSETTO:+0100
TZNAME:CET
END:STANDARD
END:VTIMEZONE
END:VCALENDAR