﻿BEGIN:VCALENDAR
VERSION:2.0
PRODID:-//wp-events-plugin.com//7.2.3.1//EN
TZID:Europe/Amsterdam
X-WR-TIMEZONE:Europe/Amsterdam
BEGIN:VEVENT
UID:793@bezoekhetnoorden.nl
DTSTART;TZID=Europe/Amsterdam:20190228T200000
DTEND;TZID=Europe/Amsterdam:20190228T220000
DTSTAMP:20190205T172627Z
URL:https://bezoekhetnoorden.nl/evenementen/cursus-boerenerven-in-zuidwold
 e-2/
SUMMARY:Cursus Boerenerven in Zuidwolde
DESCRIPTION:De Werkgroep Boerenerven Drenthe geeft een cursus voor mensen d
 ie hun boerenerf willen inrichten met liefde voor de historie en passend i
 n het landschap. Uiteraard zijn ook andere geïnteresseerden van harte wel
 kom. Er zijn twee cursusavonden\, op donderdag 21 en 28 februari. Op zater
 dag 23 februari is er een fietsexcursie waarbij de praktijkvoorbeelden die
  we onderweg tegenkomen\, ons zullen uitdagen tot discussies. Deze cursus 
 wordt gegeven in Dorpshuis De Boerhoorn in Zuidwolde. \n.\nVragen over het
  erf\nDe Werkgroep wil de sobere\, functionele inrichting van oude erven o
 nder de aandacht brengen en tegelijkertijd inspiratie geven aan nieuwe boe
 rderijbewoners. Deze bewoners hebben hun droom verwezenlijkt: ze zijn in e
 en klein dorp of  “buiten” gaan wonen\, soms met een flinke lap grond 
 erbij. De boerderij is verantwoord verbouwd en dan moet het erf nog ingeri
 cht worden. Er komen allerlei vragen. Wat te doen met het oude stookhok\, 
 met de scheefgezakte appelboom\, waar moet het terras komen en welke stree
 keigen bomen en struiken horen op het erf? Hoe kun je het privé-deel op e
 en goede manier afschermen op een van oudsher ‘open’ boerenerf? Moet e
 r een heg komen en welk soort dan? Tijdens de cursus wordt ingegaan op al 
 deze vragen.\n\nBreed inzicht\nIn twee avonden leert de cursist hoe je naa
 r een erf en de historie moet kijken\, welke uitgangspunten de basis vorme
 n voor een ontwerp en welke materialen gebruikt kunnen worden. Veel hangt 
 samen met het type landschap\, de manier waarop er vroeger is geboerd\, de
  ouderdom en de architectuurkenmerken van de boerderij. Het gebouw\, het l
 andschap en het erf vormen één geheel en dat maakt het nodig ook te kijk
 en naar de bouwstijl\, naar de boerderijen in de buurt en naar het streeke
 igene in het landschap. De cursisten krijgen een breed inzicht in zowel he
 t streekeigene als in de mogelijkheden voor hun eigen erf. Tijdens de fiet
 sexcursie kunnen de cursisten de opgedane kennis aan de praktijk toetsen: 
 fietsen\, kijken en discussiëren.\n\nOpgave \nAanmelden is noodzakelijk e
 n kan tot donderdag 14 februari a.s. via boerenerven@drentslandschap.nl. D
 e kosten bedragen € 30\,- (incl. koffie/thee en lesmateriaal). De theori
 eavonden zijn van 20.00 tot 22.00 uur en de fietsexcursie (3 maart) is van
  09.30 tot plm. 13.00 uur. Cursusplaats: Dorpshuis De Boerhoorn\, Oosterwe
 g 14\, 7921 GB Zuidwolde.
ATTACH;FMTTYPE=image/jpeg:https://bezoekhetnoorden.nl/new/wp-content/uploa
 ds/2018/02/Werkgroep-Boerenerven-Drenthe-Foto-Hans-Dekker.jpg
LOCATION:\, \, 
X-APPLE-STRUCTURED-LOCATION;VALUE=URI;X-ADDRESS=\, ;X-APPLE-RADIUS=100;X-TI
 TLE=:geo:0,0
END:VEVENT
BEGIN:VTIMEZONE
TZID:Europe/Amsterdam
X-LIC-LOCATION:Europe/Amsterdam
BEGIN:STANDARD
DTSTART:20181028T020000
TZOFFSETFROM:+0200
TZOFFSETTO:+0100
TZNAME:CET
END:STANDARD
END:VTIMEZONE
END:VCALENDAR