﻿BEGIN:VCALENDAR
VERSION:2.0
PRODID:-//wp-events-plugin.com//7.2.3.1//EN
TZID:Europe/Amsterdam
X-WR-TIMEZONE:Europe/Amsterdam
BEGIN:VEVENT
UID:205@bezoekhetnoorden.nl
DTSTART;TZID=Europe/Amsterdam:20250720T100000
DTEND;TZID=Europe/Amsterdam:20250721T000000
DTSTAMP:20250204T214610Z
URL:https://bezoekhetnoorden.nl/evenementen/cest-la-vie-festival/
SUMMARY:C'est La Vie Festival
DESCRIPTION:Cest-la-Vie\, het festival van Emmen.\n\nHet festival is zoals 
 altijd\, gratis toegankelijk voor iedereen. Verschillende vormen van straa
 ttheater wederom gecombineerd met een braderie en vlooienmarkt. Via de vro
 lijke marktkramen wandelt u vanzelf langs alle optredens.\n\n's Avonds gaa
 t het feest door en neemt de horeca het stokje over met een gevarieerd muz
 iekprogramma. Op verschillende podia in het centrum treden bands op.
ATTACH;FMTTYPE=image/jpeg:https://bezoekhetnoorden.nl/new/wp-content/uploa
 ds/2016/07/Cest-la-Vie.jpg
CATEGORIES:Festival
LOCATION:Centrum Emmen\, Hoofdstraat 18\, Emmen\, Drenthe\, Nederland
X-APPLE-STRUCTURED-LOCATION;VALUE=URI;X-ADDRESS=Hoofdstraat 18\, Emmen\, Dr
 enthe\, Nederland;X-APPLE-RADIUS=100;X-TITLE=Centrum Emmen:geo:0,0
END:VEVENT
BEGIN:VTIMEZONE
TZID:Europe/Amsterdam
X-LIC-LOCATION:Europe/Amsterdam
BEGIN:DAYLIGHT
DTSTART:20250330T030000
TZOFFSETFROM:+0100
TZOFFSETTO:+0200
TZNAME:CEST
END:DAYLIGHT
END:VTIMEZONE
END:VCALENDAR