﻿BEGIN:VCALENDAR
VERSION:2.0
PRODID:-//wp-events-plugin.com//7.2.3.1//EN
TZID:Europe/Amsterdam
X-WR-TIMEZONE:Europe/Amsterdam
BEGIN:VEVENT
UID:1140@bezoekhetnoorden.nl
DTSTART;TZID=Europe/Amsterdam:20200606T100000
DTEND;TZID=Europe/Amsterdam:20200606T170000
DTSTAMP:20191227T184235Z
URL:https://bezoekhetnoorden.nl/evenementen/bunkerdag-2/
SUMMARY:Bunkerdag
DESCRIPTION:Dit onbemande museum is te vinden in de duinen ten westen van d
 e vuurtoren in Hollum. Het is een voormalige keukenbunker. In het eerste g
 edeelte staat een kunstwerk van Jes van der Bijl waarmee alle oorlogsslach
 toffers worden herdacht. In het middelste deel zie je vondsten\, voorstell
 ingen en verhalen van Amelanders die de oorlog meemaakten. In de laatste r
 uimte wordt via een diorama beelden van de oorlog op het eiland in chronol
 ogische volgorde getoond. Zo krijg je als bezoeker direct een indruk van h
 et verloop van de oorlog op Ameland.\n\nTijdens Bunkerdag worden er ook ro
 ndleidingen georganiseerd langs de andere bunkers op het eiland.\n\nToilet
  en horeca bevinden zich op 10 minuten loopafstand.
ATTACH;FMTTYPE=image/jpeg:https://bezoekhetnoorden.nl/new/wp-content/uploa
 ds/2018/05/bunker-ameland.jpg
CATEGORIES:Open dag
LOCATION:\, \, 
X-APPLE-STRUCTURED-LOCATION;VALUE=URI;X-ADDRESS=\, ;X-APPLE-RADIUS=100;X-TI
 TLE=:geo:0,0
END:VEVENT
BEGIN:VTIMEZONE
TZID:Europe/Amsterdam
X-LIC-LOCATION:Europe/Amsterdam
BEGIN:DAYLIGHT
DTSTART:20200329T030000
TZOFFSETFROM:+0100
TZOFFSETTO:+0200
TZNAME:CEST
END:DAYLIGHT
END:VTIMEZONE
END:VCALENDAR