﻿BEGIN:VCALENDAR
VERSION:2.0
PRODID:-//wp-events-plugin.com//7.2.3.1//EN
TZID:Europe/Amsterdam
X-WR-TIMEZONE:Europe/Amsterdam
BEGIN:VEVENT
UID:1527@bezoekhetnoorden.nl
DTSTART;TZID=Europe/Amsterdam:20190806T100000
DTEND;TZID=Europe/Amsterdam:20190806T150000
DTSTAMP:20190217T165504Z
URL:https://bezoekhetnoorden.nl/evenementen/buitendag-buitencentrum-boomkr
 oonpad-15/
SUMMARY:Buitendag Buitencentrum Boomkroonpad
DESCRIPTION:Kom met je kinderen naar de Buitendagen van Buitencentrum Boomk
 roonpad en ontdek alles over de natuur. Leuke afwisselende activiteiten vo
 or veel buitenplezier!\n\n\nPrijs voor kinderen is voor de activiteit incl
 usief entree voor het Boomkroonpad.\nVolwassenen betalen alleen een entree
 kaartje voor het Boomkroonpad.\nHet Boomkroonpad is alleen te bereiken via
  trappen en daardoor niet geschikt voor mindervaliden.\nHonden zijn niet t
 oegestaan.
ATTACH;FMTTYPE=image/jpeg:https://bezoekhetnoorden.nl/new/wp-content/uploa
 ds/2016/02/ontdekken-met-moeder.jpg
CATEGORIES:Kinderactiviteit
LOCATION:\, \, 
X-APPLE-STRUCTURED-LOCATION;VALUE=URI;X-ADDRESS=\, ;X-APPLE-RADIUS=100;X-TI
 TLE=:geo:0,0
END:VEVENT
BEGIN:VTIMEZONE
TZID:Europe/Amsterdam
X-LIC-LOCATION:Europe/Amsterdam
BEGIN:DAYLIGHT
DTSTART:20190331T030000
TZOFFSETFROM:+0100
TZOFFSETTO:+0200
TZNAME:CEST
END:DAYLIGHT
END:VTIMEZONE
END:VCALENDAR