﻿BEGIN:VCALENDAR
VERSION:2.0
PRODID:-//wp-events-plugin.com//7.2.3.1//EN
TZID:Europe/Amsterdam
X-WR-TIMEZONE:Europe/Amsterdam
BEGIN:VEVENT
UID:993@bezoekhetnoorden.nl
DTSTART;TZID=Europe/Amsterdam:20190324T083000
DTEND;TZID=Europe/Amsterdam:20190324T160000
DTSTAMP:20190205T174407Z
URL:https://bezoekhetnoorden.nl/evenementen/bruintje-beer-tocht/
SUMMARY:Bruintje Beer Tocht
DESCRIPTION:Ons motto: "Samen sportief voor de regio". De fietstocht van\, 
 voor en door Zuid-Oost Groningen. Op de eerste zondag van de lente lekker 
 fietsen voor een regionaal goed doel. Uitstekende verzorging!!!!
ATTACH;FMTTYPE=image/jpeg:https://bezoekhetnoorden.nl/new/wp-content/uploa
 ds/2018/03/bruintje-beertocht.jpg
CATEGORIES:Fietsen
LOCATION:\, \, 
X-APPLE-STRUCTURED-LOCATION;VALUE=URI;X-ADDRESS=\, ;X-APPLE-RADIUS=100;X-TI
 TLE=:geo:0,0
END:VEVENT
BEGIN:VTIMEZONE
TZID:Europe/Amsterdam
X-LIC-LOCATION:Europe/Amsterdam
BEGIN:STANDARD
DTSTART:20181028T020000
TZOFFSETFROM:+0200
TZOFFSETTO:+0100
TZNAME:CET
END:STANDARD
END:VTIMEZONE
END:VCALENDAR