﻿BEGIN:VCALENDAR
VERSION:2.0
PRODID:-//wp-events-plugin.com//7.2.3.1//EN
TZID:Europe/Amsterdam
X-WR-TIMEZONE:Europe/Amsterdam
BEGIN:VEVENT
UID:2047@bezoekhetnoorden.nl
DTSTART;TZID=Europe/Amsterdam:20200802T120000
DTEND;TZID=Europe/Amsterdam:20200802T170000
DTSTAMP:20200224T182149Z
URL:https://bezoekhetnoorden.nl/evenementen/braderie-met-vlomarkt-tijdens-
 feest4daagse-in-norg/
SUMMARY:Braderie met vlomarkt tijdens feest4daagse in Norg
DESCRIPTION:\n\nOmschrijving van het evenement: Van donderdag 30 juli tot e
 n met zondag 2 augustus 2020 wordt in Norg voor de 22e keer de feest4daags
 e gehouden. Tijdens deze dagen worden sportieve activiteiten gehouden en i
 s er veel muziek. Op zondag is er een grote braderie met vlomarkt. Kom gez
 ellig rondsnuffelen in de kramen met nieuwe en gebruikte spullen\, er is v
 ast iets van uw gading bij. Of neem iets te eten of te drinken bij een van
  de foodkramen of op het terras van de plaatselijke horeca. De toegang tot
  de markt is geheel gratis\, evenals het parkeren. 
ATTACH;FMTTYPE=image/jpeg:https://bezoekhetnoorden.nl/new/wp-content/uploa
 ds/2020/02/Huurkraam.nl-Norg01-4augustus2019.jpg
CATEGORIES:Markt / Braderie
LOCATION:\, \, 
X-APPLE-STRUCTURED-LOCATION;VALUE=URI;X-ADDRESS=\, ;X-APPLE-RADIUS=100;X-TI
 TLE=:geo:0,0
END:VEVENT
BEGIN:VTIMEZONE
TZID:Europe/Amsterdam
X-LIC-LOCATION:Europe/Amsterdam
BEGIN:DAYLIGHT
DTSTART:20200329T030000
TZOFFSETFROM:+0100
TZOFFSETTO:+0200
TZNAME:CEST
END:DAYLIGHT
END:VTIMEZONE
END:VCALENDAR