﻿BEGIN:VCALENDAR
VERSION:2.0
PRODID:-//wp-events-plugin.com//7.2.3.1//EN
TZID:Europe/Amsterdam
X-WR-TIMEZONE:Europe/Amsterdam
BEGIN:VEVENT
UID:2028@bezoekhetnoorden.nl
DTSTART;TZID=Europe/Amsterdam:20240526T110000
DTEND;TZID=Europe/Amsterdam:20240526T170000
DTSTAMP:20240227T180151Z
URL:https://bezoekhetnoorden.nl/evenementen/braderie-met-vlomarkt-in-roden
 /
SUMMARY:Braderie met vlomarkt in Roden
DESCRIPTION:Op zondag 8 mei is er een braderie met vlomarkt in Roden. Zolde
 r opgeruimd of heeft u overtollige spullen. Laat ze niet verloren gaan\, m
 aar gun ze een tweede leven. U bent van harte welkom op één van onze vlo
 markten! De toegang is gratis\, evenals het parkeren op het grote terrein 
 tegenover de markt.
ATTACH;FMTTYPE=image/jpeg:https://bezoekhetnoorden.nl/new/wp-content/uploa
 ds/2020/02/braderie-roden.jpg
CATEGORIES:Markt / Braderie
LOCATION:Jaarbeursterrein\, Norgerweg 2b\, Roden\, Drenthe\, 9301 JM\, Nede
 rland
X-APPLE-STRUCTURED-LOCATION;VALUE=URI;X-ADDRESS=Norgerweg 2b\, Roden\, Dren
 the\, 9301 JM\, Nederland;X-APPLE-RADIUS=100;X-TITLE=Jaarbeursterrein:geo:
 0,0
END:VEVENT
BEGIN:VTIMEZONE
TZID:Europe/Amsterdam
X-LIC-LOCATION:Europe/Amsterdam
BEGIN:DAYLIGHT
DTSTART:20240331T030000
TZOFFSETFROM:+0100
TZOFFSETTO:+0200
TZNAME:CEST
END:DAYLIGHT
END:VTIMEZONE
END:VCALENDAR