﻿BEGIN:VCALENDAR
VERSION:2.0
PRODID:-//wp-events-plugin.com//7.2.3.1//EN
TZID:Europe/Amsterdam
X-WR-TIMEZONE:Europe/Amsterdam
BEGIN:VEVENT
UID:2039@bezoekhetnoorden.nl
DTSTART;TZID=Europe/Amsterdam:20201003T110000
DTEND;TZID=Europe/Amsterdam:20201003T170000
DTSTAMP:20200224T175724Z
URL:https://bezoekhetnoorden.nl/evenementen/braderie-en-vlomarkt-ter-apel-
 2/
SUMMARY:Braderie en vlomarkt -Ter Apel
DESCRIPTION:Op het gezellige Molenplein en de Kruier is er een vlomarkt bij
  de braderie in het drukbezochte winkelcentrum van Ter Apel. Kom gezellig 
 langs\, er is vast iets van uw gading te vinden.\n\n
ATTACH;FMTTYPE=image/jpeg:https://bezoekhetnoorden.nl/new/wp-content/uploa
 ds/2019/06/Braderie-en-vlomarkt-Ter-Apel.jpg
CATEGORIES:Markt / Braderie
LOCATION:Centrum Ter Apel\, Ter Apel \, Ter Apel \, Groningen\, Nederland
GEO:52.877164;7.059231
X-APPLE-STRUCTURED-LOCATION;VALUE=URI;X-ADDRESS=Ter Apel \, Ter Apel \, Gro
 ningen\, Nederland;X-APPLE-RADIUS=100;X-TITLE=Centrum Ter Apel:geo:52.8771
 64,7.059231
END:VEVENT
BEGIN:VTIMEZONE
TZID:Europe/Amsterdam
X-LIC-LOCATION:Europe/Amsterdam
BEGIN:DAYLIGHT
DTSTART:20200329T030000
TZOFFSETFROM:+0100
TZOFFSETTO:+0200
TZNAME:CEST
END:DAYLIGHT
END:VTIMEZONE
END:VCALENDAR