﻿BEGIN:VCALENDAR
VERSION:2.0
PRODID:-//wp-events-plugin.com//7.2.3.1//EN
TZID:Europe/Amsterdam
X-WR-TIMEZONE:Europe/Amsterdam
BEGIN:VEVENT
UID:2100@bezoekhetnoorden.nl
DTSTART;TZID=Europe/Amsterdam:20230719T110000
DTEND;TZID=Europe/Amsterdam:20230719T170000
DTSTAMP:20230228T184732Z
URL:https://bezoekhetnoorden.nl/evenementen/braderie-en-vlomarkt-schoonnoo
 rd-2/
SUMMARY:Braderie en vlomarkt - Schoonnoord
DESCRIPTION:Op het evenemententerrein aan de Scheerturfstraat/Stikkerstraat
  in Schoonoord worden in de vakantieperiode een aantal markten georganisee
 rd. Kom gezellig rondsnuffelen in de kramen met nieuwe en gebruikte spulle
 n\, er is vast iets van uw gading bij. Of neem iets te eten of te drinken 
 bij een van de foodstands.\n\nDe toegang tot de markt en het parkeren in d
 e omgeving van de markt zijn gratis. Meer informatie vindt u op marktenind
 renthe.nl
ATTACH;FMTTYPE=image/jpeg:https://bezoekhetnoorden.nl/new/wp-content/uploa
 ds/2023/02/Barderie-en-vlomarkt-Schoonoord.jpg
CATEGORIES:Markt / Braderie
LOCATION:\, \, 
X-APPLE-STRUCTURED-LOCATION;VALUE=URI;X-ADDRESS=\, ;X-APPLE-RADIUS=100;X-TI
 TLE=:geo:0,0
END:VEVENT
BEGIN:VTIMEZONE
TZID:Europe/Amsterdam
X-LIC-LOCATION:Europe/Amsterdam
BEGIN:DAYLIGHT
DTSTART:20230326T030000
TZOFFSETFROM:+0100
TZOFFSETTO:+0200
TZNAME:CEST
END:DAYLIGHT
END:VTIMEZONE
END:VCALENDAR