﻿BEGIN:VCALENDAR
VERSION:2.0
PRODID:-//wp-events-plugin.com//7.2.3.1//EN
TZID:Europe/Amsterdam
X-WR-TIMEZONE:Europe/Amsterdam
BEGIN:VEVENT
UID:2022@bezoekhetnoorden.nl
DTSTART;TZID=Europe/Amsterdam:20240714T110000
DTEND;TZID=Europe/Amsterdam:20240714T170000
DTSTAMP:20240227T182143Z
URL:https://bezoekhetnoorden.nl/evenementen/braderie-en-vlomarkt-exloo-3/
SUMMARY:Braderie en vlomarkt -Exloo
DESCRIPTION:In het toeristische hart van Exloo organiseert Huurkraam.nl een
  braderie met vlomarkt. Deze wordt gehouden in de omgeving van de sfeervol
 le brink met schaapskooi Kom gezellig rondsnuffelen in de kramen met nieuw
 e en gebruikte spullen\, er is vast iets van uw gading bij. Of neem iets t
 e eten of te drinken bij een van de foodkramen of op de terrassen van de p
 laatselijke horeca. Parkeren in de omgeving van de markt is gratis\, evena
 ls de toegang tot de markt. Meer informatie vindt u op https://www.markten
 indrenthe.nl
ATTACH;FMTTYPE=image/jpeg:https://bezoekhetnoorden.nl/new/wp-content/uploa
 ds/2020/02/Braderie-Exloo.jpg
CATEGORIES:Markt / Braderie
LOCATION:Centrum Exloo\, Schoolstraat\, Exloo\, Drenthe\, Nederland
X-APPLE-STRUCTURED-LOCATION;VALUE=URI;X-ADDRESS=Schoolstraat\, Exloo\, Dren
 the\, Nederland;X-APPLE-RADIUS=100;X-TITLE=Centrum Exloo:geo:0,0
END:VEVENT
BEGIN:VTIMEZONE
TZID:Europe/Amsterdam
X-LIC-LOCATION:Europe/Amsterdam
BEGIN:DAYLIGHT
DTSTART:20240331T030000
TZOFFSETFROM:+0100
TZOFFSETTO:+0200
TZNAME:CEST
END:DAYLIGHT
END:VTIMEZONE
END:VCALENDAR