﻿BEGIN:VCALENDAR
VERSION:2.0
PRODID:-//wp-events-plugin.com//7.2.3.1//EN
TZID:Europe/Amsterdam
X-WR-TIMEZONE:Europe/Amsterdam
BEGIN:VEVENT
UID:1770@bezoekhetnoorden.nl
DTSTART;TZID=Europe/Amsterdam:20190502T130000
DTEND;TZID=Europe/Amsterdam:20190502T160000
DTSTAMP:20190327T091335Z
URL:https://bezoekhetnoorden.nl/evenementen/bouwmiddag/
SUMMARY:Bouwmiddag
DESCRIPTION:Kom bouwen met karton\, flessen doppen en houten plankjes.\nDuu
 rzame oplossingen komen vaak voort uit creativiteit\, zeker in de bouwsect
 or. Kom het zelf proberen en maak met karton\, flessen doppen of houten pl
 ankjes bijzondere bouwsels.\nActiviteit onder begeleiding van een volwasse
 ne.\n
ATTACH;FMTTYPE=image/jpeg:https://bezoekhetnoorden.nl/new/wp-content/uploa
 ds/2018/09/Het-nieuwe-duurzaamheidscentrum-in-het-Asserbos.jpg
CATEGORIES:Kinderactiviteit
LOCATION:\, \, 
X-APPLE-STRUCTURED-LOCATION;VALUE=URI;X-ADDRESS=\, ;X-APPLE-RADIUS=100;X-TI
 TLE=:geo:0,0
END:VEVENT
BEGIN:VTIMEZONE
TZID:Europe/Amsterdam
X-LIC-LOCATION:Europe/Amsterdam
BEGIN:DAYLIGHT
DTSTART:20190331T030000
TZOFFSETFROM:+0100
TZOFFSETTO:+0200
TZNAME:CEST
END:DAYLIGHT
END:VTIMEZONE
END:VCALENDAR