﻿BEGIN:VCALENDAR
VERSION:2.0
PRODID:-//wp-events-plugin.com//7.2.3.1//EN
TZID:Europe/Amsterdam
X-WR-TIMEZONE:Europe/Amsterdam
BEGIN:VEVENT
UID:3@bezoekhetnoorden.nl
DTSTART;TZID=Europe/Amsterdam:20220924T090000
DTEND;TZID=Europe/Amsterdam:20220924T170000
DTSTAMP:20220914T171513Z
URL:https://bezoekhetnoorden.nl/evenementen/boeskoolmarkt-ter-apel/
SUMMARY:Boeskoolmarkt Ter Apel
DESCRIPTION:De verkoop van de 31e markt start om 9 uur.\n\nDe officiële op
 ening wordt om tien uur gedaan door burgemeester Velema met het traditione
 el afsteken van het kanon op het Molenplein onder assistentie van de Bourt
 anger Schutters .\n\nDe basis van de jaarmarkt wordt gevormd door omstreek
 s 120 marktkooplieden uit de erkende ambulante handel met een gevarieerd 
 aanbod zijn van gebruiksgoederen en etenswaren\, voor burgers en buitenlui
  van jong tot oud.\n\nLangs de Hoofdstraat zullen vanaf omstreeks zes uur 
 in de ochtend de eerste kooplieden arriveren  en beginnen met het inricht
 en van hun kramen of verkoopwagens\, evenals langs Heemker Akkerstraat en 
 Nederveen Cappelstraat.
ATTACH;FMTTYPE=image/jpeg:https://bezoekhetnoorden.nl/new/wp-content/uploa
 ds/2015/09/Boeskoolmarkt-Ter-Apel.jpg
CATEGORIES:Markt / Braderie
LOCATION:Centrum Ter Apel\, Ter Apel \, Ter Apel \, Groningen\, Nederland
GEO:52.877164;7.059231
X-APPLE-STRUCTURED-LOCATION;VALUE=URI;X-ADDRESS=Ter Apel \, Ter Apel \, Gro
 ningen\, Nederland;X-APPLE-RADIUS=100;X-TITLE=Centrum Ter Apel:geo:52.8771
 64,7.059231
END:VEVENT
BEGIN:VTIMEZONE
TZID:Europe/Amsterdam
X-LIC-LOCATION:Europe/Amsterdam
BEGIN:DAYLIGHT
DTSTART:20220327T030000
TZOFFSETFROM:+0100
TZOFFSETTO:+0200
TZNAME:CEST
END:DAYLIGHT
END:VTIMEZONE
END:VCALENDAR