﻿BEGIN:VCALENDAR
VERSION:2.0
PRODID:-//wp-events-plugin.com//7.2.3.1//EN
TZID:Europe/Amsterdam
X-WR-TIMEZONE:Europe/Amsterdam
BEGIN:VEVENT
UID:1911@bezoekhetnoorden.nl
DTSTART;TZID=Europe/Amsterdam:20190922T110000
DTEND;TZID=Europe/Amsterdam:20190922T160000
DTSTAMP:20190920T155928Z
URL:https://bezoekhetnoorden.nl/evenementen/beleef-de-herfst/
SUMMARY:Beleef de herfst!
DESCRIPTION:Vier met ons op zondag 22 september het begin van de herfst. Tu
 ssen 11.00 en 16.00 uur kun je meedoen met verschillende gratis herfstacti
 viteiten. Adres: Duurzaamheidscentrum\, Bosrand 2\, 9401 SL Assen (navigat
 ieadres: Stadsbroek 11).\n\nDe herfst staat voor de deur en dat betekent k
 letterende regen tegen de ramen\, harde wind\, vallende bladeren en dieren
  die zich klaar maken om de winter te overleven. Het is herfst!\nKom zonda
 g langs en doe mee met superleuke activiteiten zoals de regenbuienspeurtoc
 ht\, maak je eigen winmolen of maak een egel van natuurlijke materialen. K
 nutsel met herfstbladeren\, maak een vogel van wol\, sfeerlichtjes maken e
 n als je meer wilt weten over trekvogels\, doe dan het Trekvogelspel dat b
 uiten voor je klaar staat. \n\nOm 14.00 uur start er voor het centrum een 
 boeiende excursie door het Asserbos. Aanmelden is niet nodig en alle activ
 iteiten zijn gratis\, al stellen we een vrijwillige bijdrage wel op prijs.
 \n\nLaatste weekend Assen Zoemt\nTot en met zondag 22 september kun je de 
 expositie Assen Zoemt nog bekijken. Hierna wordt hij in het kader van duur
 zaam handelen niet weggegooid\, maar komt hij te staan in het Natuureducat
 iecentrum van Groningen. \n\nKom\, geniet\, leer en verwonder. Beleef de h
 erfst is gratis toegankelijk. Kijk voor meer informatie op website: www.du
 urzaamheidscentrumassen.nl \n
ATTACH;FMTTYPE=image/jpeg:https://bezoekhetnoorden.nl/new/wp-content/uploa
 ds/2019/08/plaatjes-paddenstoel.jpg
CATEGORIES:Open dag
LOCATION:\, \, 
X-APPLE-STRUCTURED-LOCATION;VALUE=URI;X-ADDRESS=\, ;X-APPLE-RADIUS=100;X-TI
 TLE=:geo:0,0
END:VEVENT
BEGIN:VTIMEZONE
TZID:Europe/Amsterdam
X-LIC-LOCATION:Europe/Amsterdam
BEGIN:DAYLIGHT
DTSTART:20190331T030000
TZOFFSETFROM:+0100
TZOFFSETTO:+0200
TZNAME:CEST
END:DAYLIGHT
END:VTIMEZONE
END:VCALENDAR